BEGIN:VCALENDAR
VERSION:2.0
PRODID:-//Mount Olive Baptist Church - ECPv6.15.20//NONSGML v1.0//EN
CALSCALE:GREGORIAN
METHOD:PUBLISH
X-ORIGINAL-URL:https://mountolive.online
X-WR-CALDESC:Events for Mount Olive Baptist Church
REFRESH-INTERVAL;VALUE=DURATION:PT1H
X-Robots-Tag:noindex
X-PUBLISHED-TTL:PT1H
BEGIN:VTIMEZONE
TZID:UTC
BEGIN:STANDARD
TZOFFSETFROM:+0000
TZOFFSETTO:+0000
TZNAME:UTC
DTSTART:20250101T000000
END:STANDARD
END:VTIMEZONE
BEGIN:VEVENT
DTSTART;TZID=UTC:20261016T090000
DTEND;TZID=UTC:20261016T090000
DTSTAMP:20260422T231610
CREATED:20240926T142031Z
LAST-MODIFIED:20241008T144059Z
UID:10000375-1792141200-1792141200@mountolive.online
SUMMARY:Men's Prayer Meeting
DESCRIPTION:
URL:https://mountolive.online/event/mens-prayer-meeting/2026-10-16/
LOCATION:Mount Olive Baptist Church\, 5415 Mount Olive Road\, Polk City\, FL\, United States
CATEGORIES:Events
ATTACH;FMTTYPE=image/png:https://mountolive.online/wp-content/uploads/2024/09/mens-prayer-meet.png
END:VEVENT
BEGIN:VEVENT
DTSTART;TZID=UTC:20261017T100000
DTEND;TZID=UTC:20261017T100000
DTSTAMP:20260422T231610
CREATED:20241008T145737Z
LAST-MODIFIED:20241008T150157Z
UID:10001431-1792231200-1792231200@mountolive.online
SUMMARY:Women's Bible Study
DESCRIPTION:
URL:https://mountolive.online/event/womens-bible-study/2026-10-17/
LOCATION:Mount Olive Baptist Church\, 5415 Mount Olive Road\, Polk City\, FL\, United States
CATEGORIES:Events
ATTACH;FMTTYPE=image/png:https://mountolive.online/wp-content/uploads/2024/09/womens-bible-study-pic.png
END:VEVENT
BEGIN:VEVENT
DTSTART;TZID=UTC:20261018T110000
DTEND;TZID=UTC:20261018T110000
DTSTAMP:20260422T231610
CREATED:20240926T155944Z
LAST-MODIFIED:20240926T155944Z
UID:10000897-1792321200-1792321200@mountolive.online
SUMMARY:Sunday Service
DESCRIPTION:
URL:https://mountolive.online/event/sunday-service/2026-10-18/
LOCATION:Mount Olive Baptist Church\, 5415 Mount Olive Road\, Polk City\, FL\, United States
CATEGORIES:Events
ATTACH;FMTTYPE=image/png:https://mountolive.online/wp-content/uploads/2024/09/sun-web-1.png
END:VEVENT
BEGIN:VEVENT
DTSTART;TZID=UTC:20261021T190000
DTEND;TZID=UTC:20261021T190000
DTSTAMP:20260422T231610
CREATED:20240926T152254Z
LAST-MODIFIED:20241002T152811Z
UID:10000636-1792609200-1792609200@mountolive.online
SUMMARY:Wednesday Service
DESCRIPTION:
URL:https://mountolive.online/event/wednesday-service/2026-10-21/
LOCATION:Mount Olive Baptist Church\, 5415 Mount Olive Road\, Polk City\, FL\, United States
CATEGORIES:Events
ATTACH;FMTTYPE=image/png:https://mountolive.online/wp-content/uploads/2024/09/wed-web-pic-.png
END:VEVENT
BEGIN:VEVENT
DTSTART;TZID=UTC:20261023T090000
DTEND;TZID=UTC:20261023T090000
DTSTAMP:20260422T231610
CREATED:20240926T142031Z
LAST-MODIFIED:20241008T144059Z
UID:10000376-1792746000-1792746000@mountolive.online
SUMMARY:Men's Prayer Meeting
DESCRIPTION:
URL:https://mountolive.online/event/mens-prayer-meeting/2026-10-23/
LOCATION:Mount Olive Baptist Church\, 5415 Mount Olive Road\, Polk City\, FL\, United States
CATEGORIES:Events
ATTACH;FMTTYPE=image/png:https://mountolive.online/wp-content/uploads/2024/09/mens-prayer-meet.png
END:VEVENT
BEGIN:VEVENT
DTSTART;TZID=UTC:20261024T100000
DTEND;TZID=UTC:20261024T100000
DTSTAMP:20260422T231610
CREATED:20241008T145737Z
LAST-MODIFIED:20241008T150157Z
UID:10001432-1792836000-1792836000@mountolive.online
SUMMARY:Women's Bible Study
DESCRIPTION:
URL:https://mountolive.online/event/womens-bible-study/2026-10-24/
LOCATION:Mount Olive Baptist Church\, 5415 Mount Olive Road\, Polk City\, FL\, United States
CATEGORIES:Events
ATTACH;FMTTYPE=image/png:https://mountolive.online/wp-content/uploads/2024/09/womens-bible-study-pic.png
END:VEVENT
BEGIN:VEVENT
DTSTART;TZID=UTC:20261025T110000
DTEND;TZID=UTC:20261025T110000
DTSTAMP:20260422T231610
CREATED:20240926T155944Z
LAST-MODIFIED:20240926T155944Z
UID:10000898-1792926000-1792926000@mountolive.online
SUMMARY:Sunday Service
DESCRIPTION:
URL:https://mountolive.online/event/sunday-service/2026-10-25/
LOCATION:Mount Olive Baptist Church\, 5415 Mount Olive Road\, Polk City\, FL\, United States
CATEGORIES:Events
ATTACH;FMTTYPE=image/png:https://mountolive.online/wp-content/uploads/2024/09/sun-web-1.png
END:VEVENT
BEGIN:VEVENT
DTSTART;TZID=UTC:20261028T190000
DTEND;TZID=UTC:20261028T190000
DTSTAMP:20260422T231610
CREATED:20240926T152254Z
LAST-MODIFIED:20241002T152811Z
UID:10000637-1793214000-1793214000@mountolive.online
SUMMARY:Wednesday Service
DESCRIPTION:
URL:https://mountolive.online/event/wednesday-service/2026-10-28/
LOCATION:Mount Olive Baptist Church\, 5415 Mount Olive Road\, Polk City\, FL\, United States
CATEGORIES:Events
ATTACH;FMTTYPE=image/png:https://mountolive.online/wp-content/uploads/2024/09/wed-web-pic-.png
END:VEVENT
BEGIN:VEVENT
DTSTART;TZID=UTC:20261030T090000
DTEND;TZID=UTC:20261030T090000
DTSTAMP:20260422T231610
CREATED:20240926T142031Z
LAST-MODIFIED:20241008T144059Z
UID:10000377-1793350800-1793350800@mountolive.online
SUMMARY:Men's Prayer Meeting
DESCRIPTION:
URL:https://mountolive.online/event/mens-prayer-meeting/2026-10-30/
LOCATION:Mount Olive Baptist Church\, 5415 Mount Olive Road\, Polk City\, FL\, United States
CATEGORIES:Events
ATTACH;FMTTYPE=image/png:https://mountolive.online/wp-content/uploads/2024/09/mens-prayer-meet.png
END:VEVENT
BEGIN:VEVENT
DTSTART;TZID=UTC:20261031T100000
DTEND;TZID=UTC:20261031T100000
DTSTAMP:20260422T231610
CREATED:20241008T145737Z
LAST-MODIFIED:20241008T150157Z
UID:10001433-1793440800-1793440800@mountolive.online
SUMMARY:Women's Bible Study
DESCRIPTION:
URL:https://mountolive.online/event/womens-bible-study/2026-10-31/
LOCATION:Mount Olive Baptist Church\, 5415 Mount Olive Road\, Polk City\, FL\, United States
CATEGORIES:Events
ATTACH;FMTTYPE=image/png:https://mountolive.online/wp-content/uploads/2024/09/womens-bible-study-pic.png
END:VEVENT
BEGIN:VEVENT
DTSTART;TZID=UTC:20261101T110000
DTEND;TZID=UTC:20261101T110000
DTSTAMP:20260422T231610
CREATED:20240926T155944Z
LAST-MODIFIED:20240926T155944Z
UID:10000899-1793530800-1793530800@mountolive.online
SUMMARY:Sunday Service
DESCRIPTION:
URL:https://mountolive.online/event/sunday-service/2026-11-01/
LOCATION:Mount Olive Baptist Church\, 5415 Mount Olive Road\, Polk City\, FL\, United States
CATEGORIES:Events
ATTACH;FMTTYPE=image/png:https://mountolive.online/wp-content/uploads/2024/09/sun-web-1.png
END:VEVENT
BEGIN:VEVENT
DTSTART;TZID=UTC:20261104T190000
DTEND;TZID=UTC:20261104T190000
DTSTAMP:20260422T231610
CREATED:20240926T152254Z
LAST-MODIFIED:20241002T152811Z
UID:10000638-1793818800-1793818800@mountolive.online
SUMMARY:Wednesday Service
DESCRIPTION:
URL:https://mountolive.online/event/wednesday-service/2026-11-04/
LOCATION:Mount Olive Baptist Church\, 5415 Mount Olive Road\, Polk City\, FL\, United States
CATEGORIES:Events
ATTACH;FMTTYPE=image/png:https://mountolive.online/wp-content/uploads/2024/09/wed-web-pic-.png
END:VEVENT
BEGIN:VEVENT
DTSTART;TZID=UTC:20261106T090000
DTEND;TZID=UTC:20261106T090000
DTSTAMP:20260422T231610
CREATED:20240926T142031Z
LAST-MODIFIED:20241008T144059Z
UID:10000378-1793955600-1793955600@mountolive.online
SUMMARY:Men's Prayer Meeting
DESCRIPTION:
URL:https://mountolive.online/event/mens-prayer-meeting/2026-11-06/
LOCATION:Mount Olive Baptist Church\, 5415 Mount Olive Road\, Polk City\, FL\, United States
CATEGORIES:Events
ATTACH;FMTTYPE=image/png:https://mountolive.online/wp-content/uploads/2024/09/mens-prayer-meet.png
END:VEVENT
BEGIN:VEVENT
DTSTART;TZID=UTC:20261107T100000
DTEND;TZID=UTC:20261107T100000
DTSTAMP:20260422T231610
CREATED:20241008T145737Z
LAST-MODIFIED:20241008T150157Z
UID:10001434-1794045600-1794045600@mountolive.online
SUMMARY:Women's Bible Study
DESCRIPTION:
URL:https://mountolive.online/event/womens-bible-study/2026-11-07/
LOCATION:Mount Olive Baptist Church\, 5415 Mount Olive Road\, Polk City\, FL\, United States
CATEGORIES:Events
ATTACH;FMTTYPE=image/png:https://mountolive.online/wp-content/uploads/2024/09/womens-bible-study-pic.png
END:VEVENT
BEGIN:VEVENT
DTSTART;TZID=UTC:20261108T110000
DTEND;TZID=UTC:20261108T110000
DTSTAMP:20260422T231610
CREATED:20240926T155944Z
LAST-MODIFIED:20240926T155944Z
UID:10000900-1794135600-1794135600@mountolive.online
SUMMARY:Sunday Service
DESCRIPTION:
URL:https://mountolive.online/event/sunday-service/2026-11-08/
LOCATION:Mount Olive Baptist Church\, 5415 Mount Olive Road\, Polk City\, FL\, United States
CATEGORIES:Events
ATTACH;FMTTYPE=image/png:https://mountolive.online/wp-content/uploads/2024/09/sun-web-1.png
END:VEVENT
BEGIN:VEVENT
DTSTART;TZID=UTC:20261111T190000
DTEND;TZID=UTC:20261111T190000
DTSTAMP:20260422T231610
CREATED:20240926T152254Z
LAST-MODIFIED:20241002T152811Z
UID:10000639-1794423600-1794423600@mountolive.online
SUMMARY:Wednesday Service
DESCRIPTION:
URL:https://mountolive.online/event/wednesday-service/2026-11-11/
LOCATION:Mount Olive Baptist Church\, 5415 Mount Olive Road\, Polk City\, FL\, United States
CATEGORIES:Events
ATTACH;FMTTYPE=image/png:https://mountolive.online/wp-content/uploads/2024/09/wed-web-pic-.png
END:VEVENT
BEGIN:VEVENT
DTSTART;TZID=UTC:20261113T090000
DTEND;TZID=UTC:20261113T090000
DTSTAMP:20260422T231610
CREATED:20240926T142031Z
LAST-MODIFIED:20241008T144059Z
UID:10000379-1794560400-1794560400@mountolive.online
SUMMARY:Men's Prayer Meeting
DESCRIPTION:
URL:https://mountolive.online/event/mens-prayer-meeting/2026-11-13/
LOCATION:Mount Olive Baptist Church\, 5415 Mount Olive Road\, Polk City\, FL\, United States
CATEGORIES:Events
ATTACH;FMTTYPE=image/png:https://mountolive.online/wp-content/uploads/2024/09/mens-prayer-meet.png
END:VEVENT
BEGIN:VEVENT
DTSTART;TZID=UTC:20261114T100000
DTEND;TZID=UTC:20261114T100000
DTSTAMP:20260422T231610
CREATED:20241008T145737Z
LAST-MODIFIED:20241008T150157Z
UID:10001435-1794650400-1794650400@mountolive.online
SUMMARY:Women's Bible Study
DESCRIPTION:
URL:https://mountolive.online/event/womens-bible-study/2026-11-14/
LOCATION:Mount Olive Baptist Church\, 5415 Mount Olive Road\, Polk City\, FL\, United States
CATEGORIES:Events
ATTACH;FMTTYPE=image/png:https://mountolive.online/wp-content/uploads/2024/09/womens-bible-study-pic.png
END:VEVENT
BEGIN:VEVENT
DTSTART;TZID=UTC:20261115T110000
DTEND;TZID=UTC:20261115T110000
DTSTAMP:20260422T231610
CREATED:20240926T155944Z
LAST-MODIFIED:20240926T155944Z
UID:10000901-1794740400-1794740400@mountolive.online
SUMMARY:Sunday Service
DESCRIPTION:
URL:https://mountolive.online/event/sunday-service/2026-11-15/
LOCATION:Mount Olive Baptist Church\, 5415 Mount Olive Road\, Polk City\, FL\, United States
CATEGORIES:Events
ATTACH;FMTTYPE=image/png:https://mountolive.online/wp-content/uploads/2024/09/sun-web-1.png
END:VEVENT
BEGIN:VEVENT
DTSTART;TZID=UTC:20261118T190000
DTEND;TZID=UTC:20261118T190000
DTSTAMP:20260422T231610
CREATED:20240926T152254Z
LAST-MODIFIED:20241002T152811Z
UID:10000640-1795028400-1795028400@mountolive.online
SUMMARY:Wednesday Service
DESCRIPTION:
URL:https://mountolive.online/event/wednesday-service/2026-11-18/
LOCATION:Mount Olive Baptist Church\, 5415 Mount Olive Road\, Polk City\, FL\, United States
CATEGORIES:Events
ATTACH;FMTTYPE=image/png:https://mountolive.online/wp-content/uploads/2024/09/wed-web-pic-.png
END:VEVENT
BEGIN:VEVENT
DTSTART;TZID=UTC:20261120T090000
DTEND;TZID=UTC:20261120T090000
DTSTAMP:20260422T231610
CREATED:20240926T142031Z
LAST-MODIFIED:20241008T144059Z
UID:10000380-1795165200-1795165200@mountolive.online
SUMMARY:Men's Prayer Meeting
DESCRIPTION:
URL:https://mountolive.online/event/mens-prayer-meeting/2026-11-20/
LOCATION:Mount Olive Baptist Church\, 5415 Mount Olive Road\, Polk City\, FL\, United States
CATEGORIES:Events
ATTACH;FMTTYPE=image/png:https://mountolive.online/wp-content/uploads/2024/09/mens-prayer-meet.png
END:VEVENT
BEGIN:VEVENT
DTSTART;TZID=UTC:20261121T100000
DTEND;TZID=UTC:20261121T100000
DTSTAMP:20260422T231610
CREATED:20241008T145737Z
LAST-MODIFIED:20241008T150157Z
UID:10001436-1795255200-1795255200@mountolive.online
SUMMARY:Women's Bible Study
DESCRIPTION:
URL:https://mountolive.online/event/womens-bible-study/2026-11-21/
LOCATION:Mount Olive Baptist Church\, 5415 Mount Olive Road\, Polk City\, FL\, United States
CATEGORIES:Events
ATTACH;FMTTYPE=image/png:https://mountolive.online/wp-content/uploads/2024/09/womens-bible-study-pic.png
END:VEVENT
BEGIN:VEVENT
DTSTART;TZID=UTC:20261122T110000
DTEND;TZID=UTC:20261122T110000
DTSTAMP:20260422T231610
CREATED:20240926T155944Z
LAST-MODIFIED:20240926T155944Z
UID:10000902-1795345200-1795345200@mountolive.online
SUMMARY:Sunday Service
DESCRIPTION:
URL:https://mountolive.online/event/sunday-service/2026-11-22/
LOCATION:Mount Olive Baptist Church\, 5415 Mount Olive Road\, Polk City\, FL\, United States
CATEGORIES:Events
ATTACH;FMTTYPE=image/png:https://mountolive.online/wp-content/uploads/2024/09/sun-web-1.png
END:VEVENT
BEGIN:VEVENT
DTSTART;TZID=UTC:20261125T190000
DTEND;TZID=UTC:20261125T190000
DTSTAMP:20260422T231610
CREATED:20240926T152254Z
LAST-MODIFIED:20241002T152811Z
UID:10000641-1795633200-1795633200@mountolive.online
SUMMARY:Wednesday Service
DESCRIPTION:
URL:https://mountolive.online/event/wednesday-service/2026-11-25/
LOCATION:Mount Olive Baptist Church\, 5415 Mount Olive Road\, Polk City\, FL\, United States
CATEGORIES:Events
ATTACH;FMTTYPE=image/png:https://mountolive.online/wp-content/uploads/2024/09/wed-web-pic-.png
END:VEVENT
BEGIN:VEVENT
DTSTART;TZID=UTC:20261127T090000
DTEND;TZID=UTC:20261127T090000
DTSTAMP:20260422T231610
CREATED:20240926T142031Z
LAST-MODIFIED:20241008T144059Z
UID:10000381-1795770000-1795770000@mountolive.online
SUMMARY:Men's Prayer Meeting
DESCRIPTION:
URL:https://mountolive.online/event/mens-prayer-meeting/2026-11-27/
LOCATION:Mount Olive Baptist Church\, 5415 Mount Olive Road\, Polk City\, FL\, United States
CATEGORIES:Events
ATTACH;FMTTYPE=image/png:https://mountolive.online/wp-content/uploads/2024/09/mens-prayer-meet.png
END:VEVENT
BEGIN:VEVENT
DTSTART;TZID=UTC:20261128T100000
DTEND;TZID=UTC:20261128T100000
DTSTAMP:20260422T231610
CREATED:20241008T145737Z
LAST-MODIFIED:20241008T150157Z
UID:10001437-1795860000-1795860000@mountolive.online
SUMMARY:Women's Bible Study
DESCRIPTION:
URL:https://mountolive.online/event/womens-bible-study/2026-11-28/
LOCATION:Mount Olive Baptist Church\, 5415 Mount Olive Road\, Polk City\, FL\, United States
CATEGORIES:Events
ATTACH;FMTTYPE=image/png:https://mountolive.online/wp-content/uploads/2024/09/womens-bible-study-pic.png
END:VEVENT
BEGIN:VEVENT
DTSTART;TZID=UTC:20261129T110000
DTEND;TZID=UTC:20261129T110000
DTSTAMP:20260422T231610
CREATED:20240926T155944Z
LAST-MODIFIED:20240926T155944Z
UID:10000903-1795950000-1795950000@mountolive.online
SUMMARY:Sunday Service
DESCRIPTION:
URL:https://mountolive.online/event/sunday-service/2026-11-29/
LOCATION:Mount Olive Baptist Church\, 5415 Mount Olive Road\, Polk City\, FL\, United States
CATEGORIES:Events
ATTACH;FMTTYPE=image/png:https://mountolive.online/wp-content/uploads/2024/09/sun-web-1.png
END:VEVENT
BEGIN:VEVENT
DTSTART;TZID=UTC:20261202T190000
DTEND;TZID=UTC:20261202T190000
DTSTAMP:20260422T231610
CREATED:20240926T152254Z
LAST-MODIFIED:20241002T152811Z
UID:10000642-1796238000-1796238000@mountolive.online
SUMMARY:Wednesday Service
DESCRIPTION:
URL:https://mountolive.online/event/wednesday-service/2026-12-02/
LOCATION:Mount Olive Baptist Church\, 5415 Mount Olive Road\, Polk City\, FL\, United States
CATEGORIES:Events
ATTACH;FMTTYPE=image/png:https://mountolive.online/wp-content/uploads/2024/09/wed-web-pic-.png
END:VEVENT
BEGIN:VEVENT
DTSTART;TZID=UTC:20261204T090000
DTEND;TZID=UTC:20261204T090000
DTSTAMP:20260422T231610
CREATED:20240926T142031Z
LAST-MODIFIED:20241008T144059Z
UID:10000382-1796374800-1796374800@mountolive.online
SUMMARY:Men's Prayer Meeting
DESCRIPTION:
URL:https://mountolive.online/event/mens-prayer-meeting/2026-12-04/
LOCATION:Mount Olive Baptist Church\, 5415 Mount Olive Road\, Polk City\, FL\, United States
CATEGORIES:Events
ATTACH;FMTTYPE=image/png:https://mountolive.online/wp-content/uploads/2024/09/mens-prayer-meet.png
END:VEVENT
BEGIN:VEVENT
DTSTART;TZID=UTC:20261205T100000
DTEND;TZID=UTC:20261205T100000
DTSTAMP:20260422T231610
CREATED:20241008T145737Z
LAST-MODIFIED:20241008T150157Z
UID:10001438-1796464800-1796464800@mountolive.online
SUMMARY:Women's Bible Study
DESCRIPTION:
URL:https://mountolive.online/event/womens-bible-study/2026-12-05/
LOCATION:Mount Olive Baptist Church\, 5415 Mount Olive Road\, Polk City\, FL\, United States
CATEGORIES:Events
ATTACH;FMTTYPE=image/png:https://mountolive.online/wp-content/uploads/2024/09/womens-bible-study-pic.png
END:VEVENT
END:VCALENDAR