BEGIN:VCALENDAR
VERSION:2.0
PRODID:-//Mount Olive Baptist Church - ECPv6.15.20//NONSGML v1.0//EN
CALSCALE:GREGORIAN
METHOD:PUBLISH
X-ORIGINAL-URL:https://mountolive.online
X-WR-CALDESC:Events for Mount Olive Baptist Church
REFRESH-INTERVAL;VALUE=DURATION:PT1H
X-Robots-Tag:noindex
X-PUBLISHED-TTL:PT1H
BEGIN:VTIMEZONE
TZID:UTC
BEGIN:STANDARD
TZOFFSETFROM:+0000
TZOFFSETTO:+0000
TZNAME:UTC
DTSTART:20260101T000000
END:STANDARD
END:VTIMEZONE
BEGIN:VEVENT
DTSTART;TZID=UTC:20270110T110000
DTEND;TZID=UTC:20270110T110000
DTSTAMP:20260423T071015
CREATED:20240926T155944Z
LAST-MODIFIED:20240926T155944Z
UID:10000909-1799578800-1799578800@mountolive.online
SUMMARY:Sunday Service
DESCRIPTION:
URL:https://mountolive.online/event/sunday-service/2027-01-10/
LOCATION:Mount Olive Baptist Church\, 5415 Mount Olive Road\, Polk City\, FL\, United States
CATEGORIES:Events
ATTACH;FMTTYPE=image/png:https://mountolive.online/wp-content/uploads/2024/09/sun-web-1.png
END:VEVENT
BEGIN:VEVENT
DTSTART;TZID=UTC:20270113T190000
DTEND;TZID=UTC:20270113T190000
DTSTAMP:20260423T071015
CREATED:20240926T152254Z
LAST-MODIFIED:20241002T152811Z
UID:10000648-1799866800-1799866800@mountolive.online
SUMMARY:Wednesday Service
DESCRIPTION:
URL:https://mountolive.online/event/wednesday-service/2027-01-13/
LOCATION:Mount Olive Baptist Church\, 5415 Mount Olive Road\, Polk City\, FL\, United States
CATEGORIES:Events
ATTACH;FMTTYPE=image/png:https://mountolive.online/wp-content/uploads/2024/09/wed-web-pic-.png
END:VEVENT
BEGIN:VEVENT
DTSTART;TZID=UTC:20270115T090000
DTEND;TZID=UTC:20270115T090000
DTSTAMP:20260423T071015
CREATED:20240926T142031Z
LAST-MODIFIED:20241008T144059Z
UID:10000388-1800003600-1800003600@mountolive.online
SUMMARY:Men's Prayer Meeting
DESCRIPTION:
URL:https://mountolive.online/event/mens-prayer-meeting/2027-01-15/
LOCATION:Mount Olive Baptist Church\, 5415 Mount Olive Road\, Polk City\, FL\, United States
CATEGORIES:Events
ATTACH;FMTTYPE=image/png:https://mountolive.online/wp-content/uploads/2024/09/mens-prayer-meet.png
END:VEVENT
BEGIN:VEVENT
DTSTART;TZID=UTC:20270116T100000
DTEND;TZID=UTC:20270116T100000
DTSTAMP:20260423T071015
CREATED:20241008T145737Z
LAST-MODIFIED:20241008T150157Z
UID:10001444-1800093600-1800093600@mountolive.online
SUMMARY:Women's Bible Study
DESCRIPTION:
URL:https://mountolive.online/event/womens-bible-study/2027-01-16/
LOCATION:Mount Olive Baptist Church\, 5415 Mount Olive Road\, Polk City\, FL\, United States
CATEGORIES:Events
ATTACH;FMTTYPE=image/png:https://mountolive.online/wp-content/uploads/2024/09/womens-bible-study-pic.png
END:VEVENT
BEGIN:VEVENT
DTSTART;TZID=UTC:20270117T110000
DTEND;TZID=UTC:20270117T110000
DTSTAMP:20260423T071015
CREATED:20240926T155944Z
LAST-MODIFIED:20240926T155944Z
UID:10000910-1800183600-1800183600@mountolive.online
SUMMARY:Sunday Service
DESCRIPTION:
URL:https://mountolive.online/event/sunday-service/2027-01-17/
LOCATION:Mount Olive Baptist Church\, 5415 Mount Olive Road\, Polk City\, FL\, United States
CATEGORIES:Events
ATTACH;FMTTYPE=image/png:https://mountolive.online/wp-content/uploads/2024/09/sun-web-1.png
END:VEVENT
BEGIN:VEVENT
DTSTART;TZID=UTC:20270120T190000
DTEND;TZID=UTC:20270120T190000
DTSTAMP:20260423T071015
CREATED:20240926T152254Z
LAST-MODIFIED:20241002T152811Z
UID:10000649-1800471600-1800471600@mountolive.online
SUMMARY:Wednesday Service
DESCRIPTION:
URL:https://mountolive.online/event/wednesday-service/2027-01-20/
LOCATION:Mount Olive Baptist Church\, 5415 Mount Olive Road\, Polk City\, FL\, United States
CATEGORIES:Events
ATTACH;FMTTYPE=image/png:https://mountolive.online/wp-content/uploads/2024/09/wed-web-pic-.png
END:VEVENT
BEGIN:VEVENT
DTSTART;TZID=UTC:20270122T090000
DTEND;TZID=UTC:20270122T090000
DTSTAMP:20260423T071015
CREATED:20240926T142031Z
LAST-MODIFIED:20241008T144059Z
UID:10000389-1800608400-1800608400@mountolive.online
SUMMARY:Men's Prayer Meeting
DESCRIPTION:
URL:https://mountolive.online/event/mens-prayer-meeting/2027-01-22/
LOCATION:Mount Olive Baptist Church\, 5415 Mount Olive Road\, Polk City\, FL\, United States
CATEGORIES:Events
ATTACH;FMTTYPE=image/png:https://mountolive.online/wp-content/uploads/2024/09/mens-prayer-meet.png
END:VEVENT
BEGIN:VEVENT
DTSTART;TZID=UTC:20270123T100000
DTEND;TZID=UTC:20270123T100000
DTSTAMP:20260423T071015
CREATED:20241008T145737Z
LAST-MODIFIED:20241008T150157Z
UID:10001445-1800698400-1800698400@mountolive.online
SUMMARY:Women's Bible Study
DESCRIPTION:
URL:https://mountolive.online/event/womens-bible-study/2027-01-23/
LOCATION:Mount Olive Baptist Church\, 5415 Mount Olive Road\, Polk City\, FL\, United States
CATEGORIES:Events
ATTACH;FMTTYPE=image/png:https://mountolive.online/wp-content/uploads/2024/09/womens-bible-study-pic.png
END:VEVENT
BEGIN:VEVENT
DTSTART;TZID=UTC:20270124T110000
DTEND;TZID=UTC:20270124T110000
DTSTAMP:20260423T071015
CREATED:20240926T155944Z
LAST-MODIFIED:20240926T155944Z
UID:10000911-1800788400-1800788400@mountolive.online
SUMMARY:Sunday Service
DESCRIPTION:
URL:https://mountolive.online/event/sunday-service/2027-01-24/
LOCATION:Mount Olive Baptist Church\, 5415 Mount Olive Road\, Polk City\, FL\, United States
CATEGORIES:Events
ATTACH;FMTTYPE=image/png:https://mountolive.online/wp-content/uploads/2024/09/sun-web-1.png
END:VEVENT
BEGIN:VEVENT
DTSTART;TZID=UTC:20270127T190000
DTEND;TZID=UTC:20270127T190000
DTSTAMP:20260423T071015
CREATED:20240926T152254Z
LAST-MODIFIED:20241002T152811Z
UID:10000650-1801076400-1801076400@mountolive.online
SUMMARY:Wednesday Service
DESCRIPTION:
URL:https://mountolive.online/event/wednesday-service/2027-01-27/
LOCATION:Mount Olive Baptist Church\, 5415 Mount Olive Road\, Polk City\, FL\, United States
CATEGORIES:Events
ATTACH;FMTTYPE=image/png:https://mountolive.online/wp-content/uploads/2024/09/wed-web-pic-.png
END:VEVENT
BEGIN:VEVENT
DTSTART;TZID=UTC:20270129T090000
DTEND;TZID=UTC:20270129T090000
DTSTAMP:20260423T071015
CREATED:20240926T142031Z
LAST-MODIFIED:20241008T144059Z
UID:10000390-1801213200-1801213200@mountolive.online
SUMMARY:Men's Prayer Meeting
DESCRIPTION:
URL:https://mountolive.online/event/mens-prayer-meeting/2027-01-29/
LOCATION:Mount Olive Baptist Church\, 5415 Mount Olive Road\, Polk City\, FL\, United States
CATEGORIES:Events
ATTACH;FMTTYPE=image/png:https://mountolive.online/wp-content/uploads/2024/09/mens-prayer-meet.png
END:VEVENT
BEGIN:VEVENT
DTSTART;TZID=UTC:20270130T100000
DTEND;TZID=UTC:20270130T100000
DTSTAMP:20260423T071015
CREATED:20241008T145737Z
LAST-MODIFIED:20241008T150157Z
UID:10001446-1801303200-1801303200@mountolive.online
SUMMARY:Women's Bible Study
DESCRIPTION:
URL:https://mountolive.online/event/womens-bible-study/2027-01-30/
LOCATION:Mount Olive Baptist Church\, 5415 Mount Olive Road\, Polk City\, FL\, United States
CATEGORIES:Events
ATTACH;FMTTYPE=image/png:https://mountolive.online/wp-content/uploads/2024/09/womens-bible-study-pic.png
END:VEVENT
BEGIN:VEVENT
DTSTART;TZID=UTC:20270131T110000
DTEND;TZID=UTC:20270131T110000
DTSTAMP:20260423T071015
CREATED:20240926T155944Z
LAST-MODIFIED:20240926T155944Z
UID:10000912-1801393200-1801393200@mountolive.online
SUMMARY:Sunday Service
DESCRIPTION:
URL:https://mountolive.online/event/sunday-service/2027-01-31/
LOCATION:Mount Olive Baptist Church\, 5415 Mount Olive Road\, Polk City\, FL\, United States
CATEGORIES:Events
ATTACH;FMTTYPE=image/png:https://mountolive.online/wp-content/uploads/2024/09/sun-web-1.png
END:VEVENT
BEGIN:VEVENT
DTSTART;TZID=UTC:20270203T190000
DTEND;TZID=UTC:20270203T190000
DTSTAMP:20260423T071015
CREATED:20240926T152254Z
LAST-MODIFIED:20241002T152811Z
UID:10000651-1801681200-1801681200@mountolive.online
SUMMARY:Wednesday Service
DESCRIPTION:
URL:https://mountolive.online/event/wednesday-service/2027-02-03/
LOCATION:Mount Olive Baptist Church\, 5415 Mount Olive Road\, Polk City\, FL\, United States
CATEGORIES:Events
ATTACH;FMTTYPE=image/png:https://mountolive.online/wp-content/uploads/2024/09/wed-web-pic-.png
END:VEVENT
BEGIN:VEVENT
DTSTART;TZID=UTC:20270205T090000
DTEND;TZID=UTC:20270205T090000
DTSTAMP:20260423T071015
CREATED:20240926T142031Z
LAST-MODIFIED:20241008T144059Z
UID:10000391-1801818000-1801818000@mountolive.online
SUMMARY:Men's Prayer Meeting
DESCRIPTION:
URL:https://mountolive.online/event/mens-prayer-meeting/2027-02-05/
LOCATION:Mount Olive Baptist Church\, 5415 Mount Olive Road\, Polk City\, FL\, United States
CATEGORIES:Events
ATTACH;FMTTYPE=image/png:https://mountolive.online/wp-content/uploads/2024/09/mens-prayer-meet.png
END:VEVENT
BEGIN:VEVENT
DTSTART;TZID=UTC:20270206T100000
DTEND;TZID=UTC:20270206T100000
DTSTAMP:20260423T071015
CREATED:20241008T145737Z
LAST-MODIFIED:20241008T150157Z
UID:10001447-1801908000-1801908000@mountolive.online
SUMMARY:Women's Bible Study
DESCRIPTION:
URL:https://mountolive.online/event/womens-bible-study/2027-02-06/
LOCATION:Mount Olive Baptist Church\, 5415 Mount Olive Road\, Polk City\, FL\, United States
CATEGORIES:Events
ATTACH;FMTTYPE=image/png:https://mountolive.online/wp-content/uploads/2024/09/womens-bible-study-pic.png
END:VEVENT
BEGIN:VEVENT
DTSTART;TZID=UTC:20270207T110000
DTEND;TZID=UTC:20270207T110000
DTSTAMP:20260423T071015
CREATED:20240926T155944Z
LAST-MODIFIED:20240926T155944Z
UID:10000913-1801998000-1801998000@mountolive.online
SUMMARY:Sunday Service
DESCRIPTION:
URL:https://mountolive.online/event/sunday-service/2027-02-07/
LOCATION:Mount Olive Baptist Church\, 5415 Mount Olive Road\, Polk City\, FL\, United States
CATEGORIES:Events
ATTACH;FMTTYPE=image/png:https://mountolive.online/wp-content/uploads/2024/09/sun-web-1.png
END:VEVENT
BEGIN:VEVENT
DTSTART;TZID=UTC:20270210T190000
DTEND;TZID=UTC:20270210T190000
DTSTAMP:20260423T071015
CREATED:20240926T152254Z
LAST-MODIFIED:20241002T152811Z
UID:10000652-1802286000-1802286000@mountolive.online
SUMMARY:Wednesday Service
DESCRIPTION:
URL:https://mountolive.online/event/wednesday-service/2027-02-10/
LOCATION:Mount Olive Baptist Church\, 5415 Mount Olive Road\, Polk City\, FL\, United States
CATEGORIES:Events
ATTACH;FMTTYPE=image/png:https://mountolive.online/wp-content/uploads/2024/09/wed-web-pic-.png
END:VEVENT
BEGIN:VEVENT
DTSTART;TZID=UTC:20270212T090000
DTEND;TZID=UTC:20270212T090000
DTSTAMP:20260423T071015
CREATED:20240926T142031Z
LAST-MODIFIED:20241008T144059Z
UID:10000392-1802422800-1802422800@mountolive.online
SUMMARY:Men's Prayer Meeting
DESCRIPTION:
URL:https://mountolive.online/event/mens-prayer-meeting/2027-02-12/
LOCATION:Mount Olive Baptist Church\, 5415 Mount Olive Road\, Polk City\, FL\, United States
CATEGORIES:Events
ATTACH;FMTTYPE=image/png:https://mountolive.online/wp-content/uploads/2024/09/mens-prayer-meet.png
END:VEVENT
BEGIN:VEVENT
DTSTART;TZID=UTC:20270213T100000
DTEND;TZID=UTC:20270213T100000
DTSTAMP:20260423T071015
CREATED:20241008T145737Z
LAST-MODIFIED:20241008T150157Z
UID:10001448-1802512800-1802512800@mountolive.online
SUMMARY:Women's Bible Study
DESCRIPTION:
URL:https://mountolive.online/event/womens-bible-study/2027-02-13/
LOCATION:Mount Olive Baptist Church\, 5415 Mount Olive Road\, Polk City\, FL\, United States
CATEGORIES:Events
ATTACH;FMTTYPE=image/png:https://mountolive.online/wp-content/uploads/2024/09/womens-bible-study-pic.png
END:VEVENT
BEGIN:VEVENT
DTSTART;TZID=UTC:20270214T110000
DTEND;TZID=UTC:20270214T110000
DTSTAMP:20260423T071015
CREATED:20240926T155944Z
LAST-MODIFIED:20240926T155944Z
UID:10000914-1802602800-1802602800@mountolive.online
SUMMARY:Sunday Service
DESCRIPTION:
URL:https://mountolive.online/event/sunday-service/2027-02-14/
LOCATION:Mount Olive Baptist Church\, 5415 Mount Olive Road\, Polk City\, FL\, United States
CATEGORIES:Events
ATTACH;FMTTYPE=image/png:https://mountolive.online/wp-content/uploads/2024/09/sun-web-1.png
END:VEVENT
BEGIN:VEVENT
DTSTART;TZID=UTC:20270217T190000
DTEND;TZID=UTC:20270217T190000
DTSTAMP:20260423T071015
CREATED:20240926T152254Z
LAST-MODIFIED:20241002T152811Z
UID:10000653-1802890800-1802890800@mountolive.online
SUMMARY:Wednesday Service
DESCRIPTION:
URL:https://mountolive.online/event/wednesday-service/2027-02-17/
LOCATION:Mount Olive Baptist Church\, 5415 Mount Olive Road\, Polk City\, FL\, United States
CATEGORIES:Events
ATTACH;FMTTYPE=image/png:https://mountolive.online/wp-content/uploads/2024/09/wed-web-pic-.png
END:VEVENT
BEGIN:VEVENT
DTSTART;TZID=UTC:20270219T090000
DTEND;TZID=UTC:20270219T090000
DTSTAMP:20260423T071015
CREATED:20240926T142031Z
LAST-MODIFIED:20241008T144059Z
UID:10000393-1803027600-1803027600@mountolive.online
SUMMARY:Men's Prayer Meeting
DESCRIPTION:
URL:https://mountolive.online/event/mens-prayer-meeting/2027-02-19/
LOCATION:Mount Olive Baptist Church\, 5415 Mount Olive Road\, Polk City\, FL\, United States
CATEGORIES:Events
ATTACH;FMTTYPE=image/png:https://mountolive.online/wp-content/uploads/2024/09/mens-prayer-meet.png
END:VEVENT
BEGIN:VEVENT
DTSTART;TZID=UTC:20270220T100000
DTEND;TZID=UTC:20270220T100000
DTSTAMP:20260423T071015
CREATED:20241008T145737Z
LAST-MODIFIED:20241008T150157Z
UID:10001449-1803117600-1803117600@mountolive.online
SUMMARY:Women's Bible Study
DESCRIPTION:
URL:https://mountolive.online/event/womens-bible-study/2027-02-20/
LOCATION:Mount Olive Baptist Church\, 5415 Mount Olive Road\, Polk City\, FL\, United States
CATEGORIES:Events
ATTACH;FMTTYPE=image/png:https://mountolive.online/wp-content/uploads/2024/09/womens-bible-study-pic.png
END:VEVENT
BEGIN:VEVENT
DTSTART;TZID=UTC:20270221T110000
DTEND;TZID=UTC:20270221T110000
DTSTAMP:20260423T071015
CREATED:20240926T155944Z
LAST-MODIFIED:20240926T155944Z
UID:10000915-1803207600-1803207600@mountolive.online
SUMMARY:Sunday Service
DESCRIPTION:
URL:https://mountolive.online/event/sunday-service/2027-02-21/
LOCATION:Mount Olive Baptist Church\, 5415 Mount Olive Road\, Polk City\, FL\, United States
CATEGORIES:Events
ATTACH;FMTTYPE=image/png:https://mountolive.online/wp-content/uploads/2024/09/sun-web-1.png
END:VEVENT
BEGIN:VEVENT
DTSTART;TZID=UTC:20270224T190000
DTEND;TZID=UTC:20270224T190000
DTSTAMP:20260423T071015
CREATED:20240926T152254Z
LAST-MODIFIED:20241002T152811Z
UID:10000654-1803495600-1803495600@mountolive.online
SUMMARY:Wednesday Service
DESCRIPTION:
URL:https://mountolive.online/event/wednesday-service/2027-02-24/
LOCATION:Mount Olive Baptist Church\, 5415 Mount Olive Road\, Polk City\, FL\, United States
CATEGORIES:Events
ATTACH;FMTTYPE=image/png:https://mountolive.online/wp-content/uploads/2024/09/wed-web-pic-.png
END:VEVENT
BEGIN:VEVENT
DTSTART;TZID=UTC:20270226T090000
DTEND;TZID=UTC:20270226T090000
DTSTAMP:20260423T071015
CREATED:20240926T142031Z
LAST-MODIFIED:20241008T144059Z
UID:10000394-1803632400-1803632400@mountolive.online
SUMMARY:Men's Prayer Meeting
DESCRIPTION:
URL:https://mountolive.online/event/mens-prayer-meeting/2027-02-26/
LOCATION:Mount Olive Baptist Church\, 5415 Mount Olive Road\, Polk City\, FL\, United States
CATEGORIES:Events
ATTACH;FMTTYPE=image/png:https://mountolive.online/wp-content/uploads/2024/09/mens-prayer-meet.png
END:VEVENT
BEGIN:VEVENT
DTSTART;TZID=UTC:20270227T100000
DTEND;TZID=UTC:20270227T100000
DTSTAMP:20260423T071015
CREATED:20241008T145737Z
LAST-MODIFIED:20241008T150157Z
UID:10001450-1803722400-1803722400@mountolive.online
SUMMARY:Women's Bible Study
DESCRIPTION:
URL:https://mountolive.online/event/womens-bible-study/2027-02-27/
LOCATION:Mount Olive Baptist Church\, 5415 Mount Olive Road\, Polk City\, FL\, United States
CATEGORIES:Events
ATTACH;FMTTYPE=image/png:https://mountolive.online/wp-content/uploads/2024/09/womens-bible-study-pic.png
END:VEVENT
BEGIN:VEVENT
DTSTART;TZID=UTC:20270228T110000
DTEND;TZID=UTC:20270228T110000
DTSTAMP:20260423T071015
CREATED:20240926T155944Z
LAST-MODIFIED:20240926T155944Z
UID:10000916-1803812400-1803812400@mountolive.online
SUMMARY:Sunday Service
DESCRIPTION:
URL:https://mountolive.online/event/sunday-service/2027-02-28/
LOCATION:Mount Olive Baptist Church\, 5415 Mount Olive Road\, Polk City\, FL\, United States
CATEGORIES:Events
ATTACH;FMTTYPE=image/png:https://mountolive.online/wp-content/uploads/2024/09/sun-web-1.png
END:VEVENT
BEGIN:VEVENT
DTSTART;TZID=UTC:20270303T190000
DTEND;TZID=UTC:20270303T190000
DTSTAMP:20260423T071015
CREATED:20240926T152254Z
LAST-MODIFIED:20241002T152811Z
UID:10000655-1804100400-1804100400@mountolive.online
SUMMARY:Wednesday Service
DESCRIPTION:
URL:https://mountolive.online/event/wednesday-service/2027-03-03/
LOCATION:Mount Olive Baptist Church\, 5415 Mount Olive Road\, Polk City\, FL\, United States
CATEGORIES:Events
ATTACH;FMTTYPE=image/png:https://mountolive.online/wp-content/uploads/2024/09/wed-web-pic-.png
END:VEVENT
END:VCALENDAR