BEGIN:VCALENDAR
VERSION:2.0
PRODID:-//Mount Olive Baptist Church - ECPv6.15.20//NONSGML v1.0//EN
CALSCALE:GREGORIAN
METHOD:PUBLISH
X-WR-CALNAME:Mount Olive Baptist Church
X-ORIGINAL-URL:https://mountolive.online
X-WR-CALDESC:Events for Mount Olive Baptist Church
REFRESH-INTERVAL;VALUE=DURATION:PT1H
X-Robots-Tag:noindex
X-PUBLISHED-TTL:PT1H
BEGIN:VTIMEZONE
TZID:UTC
BEGIN:STANDARD
TZOFFSETFROM:+0000
TZOFFSETTO:+0000
TZNAME:UTC
DTSTART:20260101T000000
END:STANDARD
END:VTIMEZONE
BEGIN:VEVENT
DTSTART;TZID=UTC:20270917T090000
DTEND;TZID=UTC:20270917T090000
DTSTAMP:20260426T044056
CREATED:20240926T142031Z
LAST-MODIFIED:20241008T144059Z
UID:10000423-1821171600-1821171600@mountolive.online
SUMMARY:Men's Prayer Meeting
DESCRIPTION:
URL:https://mountolive.online/event/mens-prayer-meeting/2027-09-17/
LOCATION:Mount Olive Baptist Church\, 5415 Mount Olive Road\, Polk City\, FL\, United States
CATEGORIES:Events
ATTACH;FMTTYPE=image/png:https://mountolive.online/wp-content/uploads/2024/09/mens-prayer-meet.png
END:VEVENT
BEGIN:VEVENT
DTSTART;TZID=UTC:20270918T100000
DTEND;TZID=UTC:20270918T100000
DTSTAMP:20260426T044056
CREATED:20241008T145737Z
LAST-MODIFIED:20241008T150157Z
UID:10001479-1821261600-1821261600@mountolive.online
SUMMARY:Women's Bible Study
DESCRIPTION:
URL:https://mountolive.online/event/womens-bible-study/2027-09-18/
LOCATION:Mount Olive Baptist Church\, 5415 Mount Olive Road\, Polk City\, FL\, United States
CATEGORIES:Events
ATTACH;FMTTYPE=image/png:https://mountolive.online/wp-content/uploads/2024/09/womens-bible-study-pic.png
END:VEVENT
BEGIN:VEVENT
DTSTART;TZID=UTC:20270919T110000
DTEND;TZID=UTC:20270919T110000
DTSTAMP:20260426T044056
CREATED:20240926T155944Z
LAST-MODIFIED:20240926T155944Z
UID:10000945-1821351600-1821351600@mountolive.online
SUMMARY:Sunday Service
DESCRIPTION:
URL:https://mountolive.online/event/sunday-service/2027-09-19/
LOCATION:Mount Olive Baptist Church\, 5415 Mount Olive Road\, Polk City\, FL\, United States
CATEGORIES:Events
ATTACH;FMTTYPE=image/png:https://mountolive.online/wp-content/uploads/2024/09/sun-web-1.png
END:VEVENT
BEGIN:VEVENT
DTSTART;TZID=UTC:20270922T190000
DTEND;TZID=UTC:20270922T190000
DTSTAMP:20260426T044056
CREATED:20240926T152254Z
LAST-MODIFIED:20241002T152811Z
UID:10000684-1821639600-1821639600@mountolive.online
SUMMARY:Wednesday Service
DESCRIPTION:
URL:https://mountolive.online/event/wednesday-service/2027-09-22/
LOCATION:Mount Olive Baptist Church\, 5415 Mount Olive Road\, Polk City\, FL\, United States
CATEGORIES:Events
ATTACH;FMTTYPE=image/png:https://mountolive.online/wp-content/uploads/2024/09/wed-web-pic-.png
END:VEVENT
BEGIN:VEVENT
DTSTART;TZID=UTC:20270924T090000
DTEND;TZID=UTC:20270924T090000
DTSTAMP:20260426T044056
CREATED:20240926T142031Z
LAST-MODIFIED:20241008T144059Z
UID:10000424-1821776400-1821776400@mountolive.online
SUMMARY:Men's Prayer Meeting
DESCRIPTION:
URL:https://mountolive.online/event/mens-prayer-meeting/2027-09-24/
LOCATION:Mount Olive Baptist Church\, 5415 Mount Olive Road\, Polk City\, FL\, United States
CATEGORIES:Events
ATTACH;FMTTYPE=image/png:https://mountolive.online/wp-content/uploads/2024/09/mens-prayer-meet.png
END:VEVENT
BEGIN:VEVENT
DTSTART;TZID=UTC:20270925T100000
DTEND;TZID=UTC:20270925T100000
DTSTAMP:20260426T044056
CREATED:20241008T145737Z
LAST-MODIFIED:20241008T150157Z
UID:10001480-1821866400-1821866400@mountolive.online
SUMMARY:Women's Bible Study
DESCRIPTION:
URL:https://mountolive.online/event/womens-bible-study/2027-09-25/
LOCATION:Mount Olive Baptist Church\, 5415 Mount Olive Road\, Polk City\, FL\, United States
CATEGORIES:Events
ATTACH;FMTTYPE=image/png:https://mountolive.online/wp-content/uploads/2024/09/womens-bible-study-pic.png
END:VEVENT
BEGIN:VEVENT
DTSTART;TZID=UTC:20270926T110000
DTEND;TZID=UTC:20270926T110000
DTSTAMP:20260426T044056
CREATED:20240926T155944Z
LAST-MODIFIED:20240926T155944Z
UID:10000946-1821956400-1821956400@mountolive.online
SUMMARY:Sunday Service
DESCRIPTION:
URL:https://mountolive.online/event/sunday-service/2027-09-26/
LOCATION:Mount Olive Baptist Church\, 5415 Mount Olive Road\, Polk City\, FL\, United States
CATEGORIES:Events
ATTACH;FMTTYPE=image/png:https://mountolive.online/wp-content/uploads/2024/09/sun-web-1.png
END:VEVENT
BEGIN:VEVENT
DTSTART;TZID=UTC:20270929T190000
DTEND;TZID=UTC:20270929T190000
DTSTAMP:20260426T044056
CREATED:20240926T152254Z
LAST-MODIFIED:20241002T152811Z
UID:10000685-1822244400-1822244400@mountolive.online
SUMMARY:Wednesday Service
DESCRIPTION:
URL:https://mountolive.online/event/wednesday-service/2027-09-29/
LOCATION:Mount Olive Baptist Church\, 5415 Mount Olive Road\, Polk City\, FL\, United States
CATEGORIES:Events
ATTACH;FMTTYPE=image/png:https://mountolive.online/wp-content/uploads/2024/09/wed-web-pic-.png
END:VEVENT
BEGIN:VEVENT
DTSTART;TZID=UTC:20271001T090000
DTEND;TZID=UTC:20271001T090000
DTSTAMP:20260426T044056
CREATED:20240926T142031Z
LAST-MODIFIED:20241008T144059Z
UID:10000425-1822381200-1822381200@mountolive.online
SUMMARY:Men's Prayer Meeting
DESCRIPTION:
URL:https://mountolive.online/event/mens-prayer-meeting/2027-10-01/
LOCATION:Mount Olive Baptist Church\, 5415 Mount Olive Road\, Polk City\, FL\, United States
CATEGORIES:Events
ATTACH;FMTTYPE=image/png:https://mountolive.online/wp-content/uploads/2024/09/mens-prayer-meet.png
END:VEVENT
BEGIN:VEVENT
DTSTART;TZID=UTC:20271002T100000
DTEND;TZID=UTC:20271002T100000
DTSTAMP:20260426T044056
CREATED:20241008T145737Z
LAST-MODIFIED:20241008T150157Z
UID:10001481-1822471200-1822471200@mountolive.online
SUMMARY:Women's Bible Study
DESCRIPTION:
URL:https://mountolive.online/event/womens-bible-study/2027-10-02/
LOCATION:Mount Olive Baptist Church\, 5415 Mount Olive Road\, Polk City\, FL\, United States
CATEGORIES:Events
ATTACH;FMTTYPE=image/png:https://mountolive.online/wp-content/uploads/2024/09/womens-bible-study-pic.png
END:VEVENT
BEGIN:VEVENT
DTSTART;TZID=UTC:20271003T110000
DTEND;TZID=UTC:20271003T110000
DTSTAMP:20260426T044056
CREATED:20240926T155944Z
LAST-MODIFIED:20240926T155944Z
UID:10000947-1822561200-1822561200@mountolive.online
SUMMARY:Sunday Service
DESCRIPTION:
URL:https://mountolive.online/event/sunday-service/2027-10-03/
LOCATION:Mount Olive Baptist Church\, 5415 Mount Olive Road\, Polk City\, FL\, United States
CATEGORIES:Events
ATTACH;FMTTYPE=image/png:https://mountolive.online/wp-content/uploads/2024/09/sun-web-1.png
END:VEVENT
BEGIN:VEVENT
DTSTART;TZID=UTC:20271006T190000
DTEND;TZID=UTC:20271006T190000
DTSTAMP:20260426T044056
CREATED:20240926T152254Z
LAST-MODIFIED:20241002T152811Z
UID:10000686-1822849200-1822849200@mountolive.online
SUMMARY:Wednesday Service
DESCRIPTION:
URL:https://mountolive.online/event/wednesday-service/2027-10-06/
LOCATION:Mount Olive Baptist Church\, 5415 Mount Olive Road\, Polk City\, FL\, United States
CATEGORIES:Events
ATTACH;FMTTYPE=image/png:https://mountolive.online/wp-content/uploads/2024/09/wed-web-pic-.png
END:VEVENT
BEGIN:VEVENT
DTSTART;TZID=UTC:20271008T090000
DTEND;TZID=UTC:20271008T090000
DTSTAMP:20260426T044056
CREATED:20240926T142031Z
LAST-MODIFIED:20241008T144059Z
UID:10000426-1822986000-1822986000@mountolive.online
SUMMARY:Men's Prayer Meeting
DESCRIPTION:
URL:https://mountolive.online/event/mens-prayer-meeting/2027-10-08/
LOCATION:Mount Olive Baptist Church\, 5415 Mount Olive Road\, Polk City\, FL\, United States
CATEGORIES:Events
ATTACH;FMTTYPE=image/png:https://mountolive.online/wp-content/uploads/2024/09/mens-prayer-meet.png
END:VEVENT
BEGIN:VEVENT
DTSTART;TZID=UTC:20271009T100000
DTEND;TZID=UTC:20271009T100000
DTSTAMP:20260426T044056
CREATED:20241008T145737Z
LAST-MODIFIED:20241008T150157Z
UID:10001482-1823076000-1823076000@mountolive.online
SUMMARY:Women's Bible Study
DESCRIPTION:
URL:https://mountolive.online/event/womens-bible-study/2027-10-09/
LOCATION:Mount Olive Baptist Church\, 5415 Mount Olive Road\, Polk City\, FL\, United States
CATEGORIES:Events
ATTACH;FMTTYPE=image/png:https://mountolive.online/wp-content/uploads/2024/09/womens-bible-study-pic.png
END:VEVENT
BEGIN:VEVENT
DTSTART;TZID=UTC:20271010T110000
DTEND;TZID=UTC:20271010T110000
DTSTAMP:20260426T044056
CREATED:20240926T155944Z
LAST-MODIFIED:20240926T155944Z
UID:10000948-1823166000-1823166000@mountolive.online
SUMMARY:Sunday Service
DESCRIPTION:
URL:https://mountolive.online/event/sunday-service/2027-10-10/
LOCATION:Mount Olive Baptist Church\, 5415 Mount Olive Road\, Polk City\, FL\, United States
CATEGORIES:Events
ATTACH;FMTTYPE=image/png:https://mountolive.online/wp-content/uploads/2024/09/sun-web-1.png
END:VEVENT
BEGIN:VEVENT
DTSTART;TZID=UTC:20271013T190000
DTEND;TZID=UTC:20271013T190000
DTSTAMP:20260426T044056
CREATED:20240926T152254Z
LAST-MODIFIED:20241002T152811Z
UID:10000687-1823454000-1823454000@mountolive.online
SUMMARY:Wednesday Service
DESCRIPTION:
URL:https://mountolive.online/event/wednesday-service/2027-10-13/
LOCATION:Mount Olive Baptist Church\, 5415 Mount Olive Road\, Polk City\, FL\, United States
CATEGORIES:Events
ATTACH;FMTTYPE=image/png:https://mountolive.online/wp-content/uploads/2024/09/wed-web-pic-.png
END:VEVENT
BEGIN:VEVENT
DTSTART;TZID=UTC:20271015T090000
DTEND;TZID=UTC:20271015T090000
DTSTAMP:20260426T044056
CREATED:20240926T142031Z
LAST-MODIFIED:20241008T144059Z
UID:10000427-1823590800-1823590800@mountolive.online
SUMMARY:Men's Prayer Meeting
DESCRIPTION:
URL:https://mountolive.online/event/mens-prayer-meeting/2027-10-15/
LOCATION:Mount Olive Baptist Church\, 5415 Mount Olive Road\, Polk City\, FL\, United States
CATEGORIES:Events
ATTACH;FMTTYPE=image/png:https://mountolive.online/wp-content/uploads/2024/09/mens-prayer-meet.png
END:VEVENT
BEGIN:VEVENT
DTSTART;TZID=UTC:20271016T100000
DTEND;TZID=UTC:20271016T100000
DTSTAMP:20260426T044056
CREATED:20241008T145737Z
LAST-MODIFIED:20241008T150157Z
UID:10001483-1823680800-1823680800@mountolive.online
SUMMARY:Women's Bible Study
DESCRIPTION:
URL:https://mountolive.online/event/womens-bible-study/2027-10-16/
LOCATION:Mount Olive Baptist Church\, 5415 Mount Olive Road\, Polk City\, FL\, United States
CATEGORIES:Events
ATTACH;FMTTYPE=image/png:https://mountolive.online/wp-content/uploads/2024/09/womens-bible-study-pic.png
END:VEVENT
BEGIN:VEVENT
DTSTART;TZID=UTC:20271017T110000
DTEND;TZID=UTC:20271017T110000
DTSTAMP:20260426T044056
CREATED:20240926T155944Z
LAST-MODIFIED:20240926T155944Z
UID:10000949-1823770800-1823770800@mountolive.online
SUMMARY:Sunday Service
DESCRIPTION:
URL:https://mountolive.online/event/sunday-service/2027-10-17/
LOCATION:Mount Olive Baptist Church\, 5415 Mount Olive Road\, Polk City\, FL\, United States
CATEGORIES:Events
ATTACH;FMTTYPE=image/png:https://mountolive.online/wp-content/uploads/2024/09/sun-web-1.png
END:VEVENT
BEGIN:VEVENT
DTSTART;TZID=UTC:20271020T190000
DTEND;TZID=UTC:20271020T190000
DTSTAMP:20260426T044056
CREATED:20240926T152254Z
LAST-MODIFIED:20241002T152811Z
UID:10000688-1824058800-1824058800@mountolive.online
SUMMARY:Wednesday Service
DESCRIPTION:
URL:https://mountolive.online/event/wednesday-service/2027-10-20/
LOCATION:Mount Olive Baptist Church\, 5415 Mount Olive Road\, Polk City\, FL\, United States
CATEGORIES:Events
ATTACH;FMTTYPE=image/png:https://mountolive.online/wp-content/uploads/2024/09/wed-web-pic-.png
END:VEVENT
BEGIN:VEVENT
DTSTART;TZID=UTC:20271022T090000
DTEND;TZID=UTC:20271022T090000
DTSTAMP:20260426T044056
CREATED:20240926T142031Z
LAST-MODIFIED:20241008T144059Z
UID:10000428-1824195600-1824195600@mountolive.online
SUMMARY:Men's Prayer Meeting
DESCRIPTION:
URL:https://mountolive.online/event/mens-prayer-meeting/2027-10-22/
LOCATION:Mount Olive Baptist Church\, 5415 Mount Olive Road\, Polk City\, FL\, United States
CATEGORIES:Events
ATTACH;FMTTYPE=image/png:https://mountolive.online/wp-content/uploads/2024/09/mens-prayer-meet.png
END:VEVENT
BEGIN:VEVENT
DTSTART;TZID=UTC:20271023T100000
DTEND;TZID=UTC:20271023T100000
DTSTAMP:20260426T044056
CREATED:20241008T145737Z
LAST-MODIFIED:20241008T150157Z
UID:10001484-1824285600-1824285600@mountolive.online
SUMMARY:Women's Bible Study
DESCRIPTION:
URL:https://mountolive.online/event/womens-bible-study/2027-10-23/
LOCATION:Mount Olive Baptist Church\, 5415 Mount Olive Road\, Polk City\, FL\, United States
CATEGORIES:Events
ATTACH;FMTTYPE=image/png:https://mountolive.online/wp-content/uploads/2024/09/womens-bible-study-pic.png
END:VEVENT
BEGIN:VEVENT
DTSTART;TZID=UTC:20271024T110000
DTEND;TZID=UTC:20271024T110000
DTSTAMP:20260426T044056
CREATED:20240926T155944Z
LAST-MODIFIED:20240926T155944Z
UID:10000950-1824375600-1824375600@mountolive.online
SUMMARY:Sunday Service
DESCRIPTION:
URL:https://mountolive.online/event/sunday-service/2027-10-24/
LOCATION:Mount Olive Baptist Church\, 5415 Mount Olive Road\, Polk City\, FL\, United States
CATEGORIES:Events
ATTACH;FMTTYPE=image/png:https://mountolive.online/wp-content/uploads/2024/09/sun-web-1.png
END:VEVENT
BEGIN:VEVENT
DTSTART;TZID=UTC:20271027T190000
DTEND;TZID=UTC:20271027T190000
DTSTAMP:20260426T044056
CREATED:20240926T152254Z
LAST-MODIFIED:20241002T152811Z
UID:10000689-1824663600-1824663600@mountolive.online
SUMMARY:Wednesday Service
DESCRIPTION:
URL:https://mountolive.online/event/wednesday-service/2027-10-27/
LOCATION:Mount Olive Baptist Church\, 5415 Mount Olive Road\, Polk City\, FL\, United States
CATEGORIES:Events
ATTACH;FMTTYPE=image/png:https://mountolive.online/wp-content/uploads/2024/09/wed-web-pic-.png
END:VEVENT
BEGIN:VEVENT
DTSTART;TZID=UTC:20271029T090000
DTEND;TZID=UTC:20271029T090000
DTSTAMP:20260426T044056
CREATED:20240926T142031Z
LAST-MODIFIED:20241008T144059Z
UID:10000429-1824800400-1824800400@mountolive.online
SUMMARY:Men's Prayer Meeting
DESCRIPTION:
URL:https://mountolive.online/event/mens-prayer-meeting/2027-10-29/
LOCATION:Mount Olive Baptist Church\, 5415 Mount Olive Road\, Polk City\, FL\, United States
CATEGORIES:Events
ATTACH;FMTTYPE=image/png:https://mountolive.online/wp-content/uploads/2024/09/mens-prayer-meet.png
END:VEVENT
BEGIN:VEVENT
DTSTART;TZID=UTC:20271030T100000
DTEND;TZID=UTC:20271030T100000
DTSTAMP:20260426T044056
CREATED:20241008T145737Z
LAST-MODIFIED:20241008T150157Z
UID:10001485-1824890400-1824890400@mountolive.online
SUMMARY:Women's Bible Study
DESCRIPTION:
URL:https://mountolive.online/event/womens-bible-study/2027-10-30/
LOCATION:Mount Olive Baptist Church\, 5415 Mount Olive Road\, Polk City\, FL\, United States
CATEGORIES:Events
ATTACH;FMTTYPE=image/png:https://mountolive.online/wp-content/uploads/2024/09/womens-bible-study-pic.png
END:VEVENT
BEGIN:VEVENT
DTSTART;TZID=UTC:20271031T110000
DTEND;TZID=UTC:20271031T110000
DTSTAMP:20260426T044056
CREATED:20240926T155944Z
LAST-MODIFIED:20240926T155944Z
UID:10000951-1824980400-1824980400@mountolive.online
SUMMARY:Sunday Service
DESCRIPTION:
URL:https://mountolive.online/event/sunday-service/2027-10-31/
LOCATION:Mount Olive Baptist Church\, 5415 Mount Olive Road\, Polk City\, FL\, United States
CATEGORIES:Events
ATTACH;FMTTYPE=image/png:https://mountolive.online/wp-content/uploads/2024/09/sun-web-1.png
END:VEVENT
BEGIN:VEVENT
DTSTART;TZID=UTC:20271103T190000
DTEND;TZID=UTC:20271103T190000
DTSTAMP:20260426T044056
CREATED:20240926T152254Z
LAST-MODIFIED:20241002T152811Z
UID:10000690-1825268400-1825268400@mountolive.online
SUMMARY:Wednesday Service
DESCRIPTION:
URL:https://mountolive.online/event/wednesday-service/2027-11-03/
LOCATION:Mount Olive Baptist Church\, 5415 Mount Olive Road\, Polk City\, FL\, United States
CATEGORIES:Events
ATTACH;FMTTYPE=image/png:https://mountolive.online/wp-content/uploads/2024/09/wed-web-pic-.png
END:VEVENT
BEGIN:VEVENT
DTSTART;TZID=UTC:20271105T090000
DTEND;TZID=UTC:20271105T090000
DTSTAMP:20260426T044056
CREATED:20240926T142031Z
LAST-MODIFIED:20241008T144059Z
UID:10000430-1825405200-1825405200@mountolive.online
SUMMARY:Men's Prayer Meeting
DESCRIPTION:
URL:https://mountolive.online/event/mens-prayer-meeting/2027-11-05/
LOCATION:Mount Olive Baptist Church\, 5415 Mount Olive Road\, Polk City\, FL\, United States
CATEGORIES:Events
ATTACH;FMTTYPE=image/png:https://mountolive.online/wp-content/uploads/2024/09/mens-prayer-meet.png
END:VEVENT
BEGIN:VEVENT
DTSTART;TZID=UTC:20271106T100000
DTEND;TZID=UTC:20271106T100000
DTSTAMP:20260426T044056
CREATED:20241008T145737Z
LAST-MODIFIED:20241008T150157Z
UID:10001486-1825495200-1825495200@mountolive.online
SUMMARY:Women's Bible Study
DESCRIPTION:
URL:https://mountolive.online/event/womens-bible-study/2027-11-06/
LOCATION:Mount Olive Baptist Church\, 5415 Mount Olive Road\, Polk City\, FL\, United States
CATEGORIES:Events
ATTACH;FMTTYPE=image/png:https://mountolive.online/wp-content/uploads/2024/09/womens-bible-study-pic.png
END:VEVENT
END:VCALENDAR