BEGIN:VCALENDAR
VERSION:2.0
PRODID:-//Mount Olive Baptist Church - ECPv6.15.20//NONSGML v1.0//EN
CALSCALE:GREGORIAN
METHOD:PUBLISH
X-WR-CALNAME:Mount Olive Baptist Church
X-ORIGINAL-URL:https://mountolive.online
X-WR-CALDESC:Events for Mount Olive Baptist Church
REFRESH-INTERVAL;VALUE=DURATION:PT1H
X-Robots-Tag:noindex
X-PUBLISHED-TTL:PT1H
BEGIN:VTIMEZONE
TZID:UTC
BEGIN:STANDARD
TZOFFSETFROM:+0000
TZOFFSETTO:+0000
TZNAME:UTC
DTSTART:20260101T000000
END:STANDARD
END:VTIMEZONE
BEGIN:VEVENT
DTSTART;TZID=UTC:20270219T090000
DTEND;TZID=UTC:20270219T090000
DTSTAMP:20260425T114618
CREATED:20240926T142031Z
LAST-MODIFIED:20241008T144059Z
UID:10000393-1803027600-1803027600@mountolive.online
SUMMARY:Men's Prayer Meeting
DESCRIPTION:
URL:https://mountolive.online/event/mens-prayer-meeting/2027-02-19/
LOCATION:Mount Olive Baptist Church\, 5415 Mount Olive Road\, Polk City\, FL\, United States
CATEGORIES:Events
ATTACH;FMTTYPE=image/png:https://mountolive.online/wp-content/uploads/2024/09/mens-prayer-meet.png
END:VEVENT
BEGIN:VEVENT
DTSTART;TZID=UTC:20270220T100000
DTEND;TZID=UTC:20270220T100000
DTSTAMP:20260425T114618
CREATED:20241008T145737Z
LAST-MODIFIED:20241008T150157Z
UID:10001449-1803117600-1803117600@mountolive.online
SUMMARY:Women's Bible Study
DESCRIPTION:
URL:https://mountolive.online/event/womens-bible-study/2027-02-20/
LOCATION:Mount Olive Baptist Church\, 5415 Mount Olive Road\, Polk City\, FL\, United States
CATEGORIES:Events
ATTACH;FMTTYPE=image/png:https://mountolive.online/wp-content/uploads/2024/09/womens-bible-study-pic.png
END:VEVENT
BEGIN:VEVENT
DTSTART;TZID=UTC:20270221T110000
DTEND;TZID=UTC:20270221T110000
DTSTAMP:20260425T114618
CREATED:20240926T155944Z
LAST-MODIFIED:20240926T155944Z
UID:10000915-1803207600-1803207600@mountolive.online
SUMMARY:Sunday Service
DESCRIPTION:
URL:https://mountolive.online/event/sunday-service/2027-02-21/
LOCATION:Mount Olive Baptist Church\, 5415 Mount Olive Road\, Polk City\, FL\, United States
CATEGORIES:Events
ATTACH;FMTTYPE=image/png:https://mountolive.online/wp-content/uploads/2024/09/sun-web-1.png
END:VEVENT
BEGIN:VEVENT
DTSTART;TZID=UTC:20270224T190000
DTEND;TZID=UTC:20270224T190000
DTSTAMP:20260425T114618
CREATED:20240926T152254Z
LAST-MODIFIED:20241002T152811Z
UID:10000654-1803495600-1803495600@mountolive.online
SUMMARY:Wednesday Service
DESCRIPTION:
URL:https://mountolive.online/event/wednesday-service/2027-02-24/
LOCATION:Mount Olive Baptist Church\, 5415 Mount Olive Road\, Polk City\, FL\, United States
CATEGORIES:Events
ATTACH;FMTTYPE=image/png:https://mountolive.online/wp-content/uploads/2024/09/wed-web-pic-.png
END:VEVENT
BEGIN:VEVENT
DTSTART;TZID=UTC:20270226T090000
DTEND;TZID=UTC:20270226T090000
DTSTAMP:20260425T114618
CREATED:20240926T142031Z
LAST-MODIFIED:20241008T144059Z
UID:10000394-1803632400-1803632400@mountolive.online
SUMMARY:Men's Prayer Meeting
DESCRIPTION:
URL:https://mountolive.online/event/mens-prayer-meeting/2027-02-26/
LOCATION:Mount Olive Baptist Church\, 5415 Mount Olive Road\, Polk City\, FL\, United States
CATEGORIES:Events
ATTACH;FMTTYPE=image/png:https://mountolive.online/wp-content/uploads/2024/09/mens-prayer-meet.png
END:VEVENT
BEGIN:VEVENT
DTSTART;TZID=UTC:20270227T100000
DTEND;TZID=UTC:20270227T100000
DTSTAMP:20260425T114618
CREATED:20241008T145737Z
LAST-MODIFIED:20241008T150157Z
UID:10001450-1803722400-1803722400@mountolive.online
SUMMARY:Women's Bible Study
DESCRIPTION:
URL:https://mountolive.online/event/womens-bible-study/2027-02-27/
LOCATION:Mount Olive Baptist Church\, 5415 Mount Olive Road\, Polk City\, FL\, United States
CATEGORIES:Events
ATTACH;FMTTYPE=image/png:https://mountolive.online/wp-content/uploads/2024/09/womens-bible-study-pic.png
END:VEVENT
BEGIN:VEVENT
DTSTART;TZID=UTC:20270228T110000
DTEND;TZID=UTC:20270228T110000
DTSTAMP:20260425T114618
CREATED:20240926T155944Z
LAST-MODIFIED:20240926T155944Z
UID:10000916-1803812400-1803812400@mountolive.online
SUMMARY:Sunday Service
DESCRIPTION:
URL:https://mountolive.online/event/sunday-service/2027-02-28/
LOCATION:Mount Olive Baptist Church\, 5415 Mount Olive Road\, Polk City\, FL\, United States
CATEGORIES:Events
ATTACH;FMTTYPE=image/png:https://mountolive.online/wp-content/uploads/2024/09/sun-web-1.png
END:VEVENT
BEGIN:VEVENT
DTSTART;TZID=UTC:20270303T190000
DTEND;TZID=UTC:20270303T190000
DTSTAMP:20260425T114618
CREATED:20240926T152254Z
LAST-MODIFIED:20241002T152811Z
UID:10000655-1804100400-1804100400@mountolive.online
SUMMARY:Wednesday Service
DESCRIPTION:
URL:https://mountolive.online/event/wednesday-service/2027-03-03/
LOCATION:Mount Olive Baptist Church\, 5415 Mount Olive Road\, Polk City\, FL\, United States
CATEGORIES:Events
ATTACH;FMTTYPE=image/png:https://mountolive.online/wp-content/uploads/2024/09/wed-web-pic-.png
END:VEVENT
BEGIN:VEVENT
DTSTART;TZID=UTC:20270305T090000
DTEND;TZID=UTC:20270305T090000
DTSTAMP:20260425T114618
CREATED:20240926T142031Z
LAST-MODIFIED:20241008T144059Z
UID:10000395-1804237200-1804237200@mountolive.online
SUMMARY:Men's Prayer Meeting
DESCRIPTION:
URL:https://mountolive.online/event/mens-prayer-meeting/2027-03-05/
LOCATION:Mount Olive Baptist Church\, 5415 Mount Olive Road\, Polk City\, FL\, United States
CATEGORIES:Events
ATTACH;FMTTYPE=image/png:https://mountolive.online/wp-content/uploads/2024/09/mens-prayer-meet.png
END:VEVENT
BEGIN:VEVENT
DTSTART;TZID=UTC:20270306T100000
DTEND;TZID=UTC:20270306T100000
DTSTAMP:20260425T114618
CREATED:20241008T145737Z
LAST-MODIFIED:20241008T150157Z
UID:10001451-1804327200-1804327200@mountolive.online
SUMMARY:Women's Bible Study
DESCRIPTION:
URL:https://mountolive.online/event/womens-bible-study/2027-03-06/
LOCATION:Mount Olive Baptist Church\, 5415 Mount Olive Road\, Polk City\, FL\, United States
CATEGORIES:Events
ATTACH;FMTTYPE=image/png:https://mountolive.online/wp-content/uploads/2024/09/womens-bible-study-pic.png
END:VEVENT
BEGIN:VEVENT
DTSTART;TZID=UTC:20270307T110000
DTEND;TZID=UTC:20270307T110000
DTSTAMP:20260425T114618
CREATED:20240926T155944Z
LAST-MODIFIED:20240926T155944Z
UID:10000917-1804417200-1804417200@mountolive.online
SUMMARY:Sunday Service
DESCRIPTION:
URL:https://mountolive.online/event/sunday-service/2027-03-07/
LOCATION:Mount Olive Baptist Church\, 5415 Mount Olive Road\, Polk City\, FL\, United States
CATEGORIES:Events
ATTACH;FMTTYPE=image/png:https://mountolive.online/wp-content/uploads/2024/09/sun-web-1.png
END:VEVENT
BEGIN:VEVENT
DTSTART;TZID=UTC:20270310T190000
DTEND;TZID=UTC:20270310T190000
DTSTAMP:20260425T114618
CREATED:20240926T152254Z
LAST-MODIFIED:20241002T152811Z
UID:10000656-1804705200-1804705200@mountolive.online
SUMMARY:Wednesday Service
DESCRIPTION:
URL:https://mountolive.online/event/wednesday-service/2027-03-10/
LOCATION:Mount Olive Baptist Church\, 5415 Mount Olive Road\, Polk City\, FL\, United States
CATEGORIES:Events
ATTACH;FMTTYPE=image/png:https://mountolive.online/wp-content/uploads/2024/09/wed-web-pic-.png
END:VEVENT
BEGIN:VEVENT
DTSTART;TZID=UTC:20270312T090000
DTEND;TZID=UTC:20270312T090000
DTSTAMP:20260425T114618
CREATED:20240926T142031Z
LAST-MODIFIED:20241008T144059Z
UID:10000396-1804842000-1804842000@mountolive.online
SUMMARY:Men's Prayer Meeting
DESCRIPTION:
URL:https://mountolive.online/event/mens-prayer-meeting/2027-03-12/
LOCATION:Mount Olive Baptist Church\, 5415 Mount Olive Road\, Polk City\, FL\, United States
CATEGORIES:Events
ATTACH;FMTTYPE=image/png:https://mountolive.online/wp-content/uploads/2024/09/mens-prayer-meet.png
END:VEVENT
BEGIN:VEVENT
DTSTART;TZID=UTC:20270313T100000
DTEND;TZID=UTC:20270313T100000
DTSTAMP:20260425T114618
CREATED:20241008T145737Z
LAST-MODIFIED:20241008T150157Z
UID:10001452-1804932000-1804932000@mountolive.online
SUMMARY:Women's Bible Study
DESCRIPTION:
URL:https://mountolive.online/event/womens-bible-study/2027-03-13/
LOCATION:Mount Olive Baptist Church\, 5415 Mount Olive Road\, Polk City\, FL\, United States
CATEGORIES:Events
ATTACH;FMTTYPE=image/png:https://mountolive.online/wp-content/uploads/2024/09/womens-bible-study-pic.png
END:VEVENT
BEGIN:VEVENT
DTSTART;TZID=UTC:20270314T110000
DTEND;TZID=UTC:20270314T110000
DTSTAMP:20260425T114618
CREATED:20240926T155944Z
LAST-MODIFIED:20240926T155944Z
UID:10000918-1805022000-1805022000@mountolive.online
SUMMARY:Sunday Service
DESCRIPTION:
URL:https://mountolive.online/event/sunday-service/2027-03-14/
LOCATION:Mount Olive Baptist Church\, 5415 Mount Olive Road\, Polk City\, FL\, United States
CATEGORIES:Events
ATTACH;FMTTYPE=image/png:https://mountolive.online/wp-content/uploads/2024/09/sun-web-1.png
END:VEVENT
BEGIN:VEVENT
DTSTART;TZID=UTC:20270317T190000
DTEND;TZID=UTC:20270317T190000
DTSTAMP:20260425T114618
CREATED:20240926T152254Z
LAST-MODIFIED:20241002T152811Z
UID:10000657-1805310000-1805310000@mountolive.online
SUMMARY:Wednesday Service
DESCRIPTION:
URL:https://mountolive.online/event/wednesday-service/2027-03-17/
LOCATION:Mount Olive Baptist Church\, 5415 Mount Olive Road\, Polk City\, FL\, United States
CATEGORIES:Events
ATTACH;FMTTYPE=image/png:https://mountolive.online/wp-content/uploads/2024/09/wed-web-pic-.png
END:VEVENT
BEGIN:VEVENT
DTSTART;TZID=UTC:20270319T090000
DTEND;TZID=UTC:20270319T090000
DTSTAMP:20260425T114618
CREATED:20240926T142031Z
LAST-MODIFIED:20241008T144059Z
UID:10000397-1805446800-1805446800@mountolive.online
SUMMARY:Men's Prayer Meeting
DESCRIPTION:
URL:https://mountolive.online/event/mens-prayer-meeting/2027-03-19/
LOCATION:Mount Olive Baptist Church\, 5415 Mount Olive Road\, Polk City\, FL\, United States
CATEGORIES:Events
ATTACH;FMTTYPE=image/png:https://mountolive.online/wp-content/uploads/2024/09/mens-prayer-meet.png
END:VEVENT
BEGIN:VEVENT
DTSTART;TZID=UTC:20270320T100000
DTEND;TZID=UTC:20270320T100000
DTSTAMP:20260425T114618
CREATED:20241008T145737Z
LAST-MODIFIED:20241008T150157Z
UID:10001453-1805536800-1805536800@mountolive.online
SUMMARY:Women's Bible Study
DESCRIPTION:
URL:https://mountolive.online/event/womens-bible-study/2027-03-20/
LOCATION:Mount Olive Baptist Church\, 5415 Mount Olive Road\, Polk City\, FL\, United States
CATEGORIES:Events
ATTACH;FMTTYPE=image/png:https://mountolive.online/wp-content/uploads/2024/09/womens-bible-study-pic.png
END:VEVENT
BEGIN:VEVENT
DTSTART;TZID=UTC:20270321T110000
DTEND;TZID=UTC:20270321T110000
DTSTAMP:20260425T114618
CREATED:20240926T155944Z
LAST-MODIFIED:20240926T155944Z
UID:10000919-1805626800-1805626800@mountolive.online
SUMMARY:Sunday Service
DESCRIPTION:
URL:https://mountolive.online/event/sunday-service/2027-03-21/
LOCATION:Mount Olive Baptist Church\, 5415 Mount Olive Road\, Polk City\, FL\, United States
CATEGORIES:Events
ATTACH;FMTTYPE=image/png:https://mountolive.online/wp-content/uploads/2024/09/sun-web-1.png
END:VEVENT
BEGIN:VEVENT
DTSTART;TZID=UTC:20270324T190000
DTEND;TZID=UTC:20270324T190000
DTSTAMP:20260425T114618
CREATED:20240926T152254Z
LAST-MODIFIED:20241002T152811Z
UID:10000658-1805914800-1805914800@mountolive.online
SUMMARY:Wednesday Service
DESCRIPTION:
URL:https://mountolive.online/event/wednesday-service/2027-03-24/
LOCATION:Mount Olive Baptist Church\, 5415 Mount Olive Road\, Polk City\, FL\, United States
CATEGORIES:Events
ATTACH;FMTTYPE=image/png:https://mountolive.online/wp-content/uploads/2024/09/wed-web-pic-.png
END:VEVENT
BEGIN:VEVENT
DTSTART;TZID=UTC:20270326T090000
DTEND;TZID=UTC:20270326T090000
DTSTAMP:20260425T114618
CREATED:20240926T142031Z
LAST-MODIFIED:20241008T144059Z
UID:10000398-1806051600-1806051600@mountolive.online
SUMMARY:Men's Prayer Meeting
DESCRIPTION:
URL:https://mountolive.online/event/mens-prayer-meeting/2027-03-26/
LOCATION:Mount Olive Baptist Church\, 5415 Mount Olive Road\, Polk City\, FL\, United States
CATEGORIES:Events
ATTACH;FMTTYPE=image/png:https://mountolive.online/wp-content/uploads/2024/09/mens-prayer-meet.png
END:VEVENT
BEGIN:VEVENT
DTSTART;TZID=UTC:20270327T100000
DTEND;TZID=UTC:20270327T100000
DTSTAMP:20260425T114618
CREATED:20241008T145737Z
LAST-MODIFIED:20241008T150157Z
UID:10001454-1806141600-1806141600@mountolive.online
SUMMARY:Women's Bible Study
DESCRIPTION:
URL:https://mountolive.online/event/womens-bible-study/2027-03-27/
LOCATION:Mount Olive Baptist Church\, 5415 Mount Olive Road\, Polk City\, FL\, United States
CATEGORIES:Events
ATTACH;FMTTYPE=image/png:https://mountolive.online/wp-content/uploads/2024/09/womens-bible-study-pic.png
END:VEVENT
BEGIN:VEVENT
DTSTART;TZID=UTC:20270328T110000
DTEND;TZID=UTC:20270328T110000
DTSTAMP:20260425T114618
CREATED:20240926T155944Z
LAST-MODIFIED:20240926T155944Z
UID:10000920-1806231600-1806231600@mountolive.online
SUMMARY:Sunday Service
DESCRIPTION:
URL:https://mountolive.online/event/sunday-service/2027-03-28/
LOCATION:Mount Olive Baptist Church\, 5415 Mount Olive Road\, Polk City\, FL\, United States
CATEGORIES:Events
ATTACH;FMTTYPE=image/png:https://mountolive.online/wp-content/uploads/2024/09/sun-web-1.png
END:VEVENT
BEGIN:VEVENT
DTSTART;TZID=UTC:20270331T190000
DTEND;TZID=UTC:20270331T190000
DTSTAMP:20260425T114618
CREATED:20240926T152254Z
LAST-MODIFIED:20241002T152811Z
UID:10000659-1806519600-1806519600@mountolive.online
SUMMARY:Wednesday Service
DESCRIPTION:
URL:https://mountolive.online/event/wednesday-service/2027-03-31/
LOCATION:Mount Olive Baptist Church\, 5415 Mount Olive Road\, Polk City\, FL\, United States
CATEGORIES:Events
ATTACH;FMTTYPE=image/png:https://mountolive.online/wp-content/uploads/2024/09/wed-web-pic-.png
END:VEVENT
BEGIN:VEVENT
DTSTART;TZID=UTC:20270402T090000
DTEND;TZID=UTC:20270402T090000
DTSTAMP:20260425T114618
CREATED:20240926T142031Z
LAST-MODIFIED:20241008T144059Z
UID:10000399-1806656400-1806656400@mountolive.online
SUMMARY:Men's Prayer Meeting
DESCRIPTION:
URL:https://mountolive.online/event/mens-prayer-meeting/2027-04-02/
LOCATION:Mount Olive Baptist Church\, 5415 Mount Olive Road\, Polk City\, FL\, United States
CATEGORIES:Events
ATTACH;FMTTYPE=image/png:https://mountolive.online/wp-content/uploads/2024/09/mens-prayer-meet.png
END:VEVENT
BEGIN:VEVENT
DTSTART;TZID=UTC:20270403T100000
DTEND;TZID=UTC:20270403T100000
DTSTAMP:20260425T114618
CREATED:20241008T145737Z
LAST-MODIFIED:20241008T150157Z
UID:10001455-1806746400-1806746400@mountolive.online
SUMMARY:Women's Bible Study
DESCRIPTION:
URL:https://mountolive.online/event/womens-bible-study/2027-04-03/
LOCATION:Mount Olive Baptist Church\, 5415 Mount Olive Road\, Polk City\, FL\, United States
CATEGORIES:Events
ATTACH;FMTTYPE=image/png:https://mountolive.online/wp-content/uploads/2024/09/womens-bible-study-pic.png
END:VEVENT
BEGIN:VEVENT
DTSTART;TZID=UTC:20270404T110000
DTEND;TZID=UTC:20270404T110000
DTSTAMP:20260425T114618
CREATED:20240926T155944Z
LAST-MODIFIED:20240926T155944Z
UID:10000921-1806836400-1806836400@mountolive.online
SUMMARY:Sunday Service
DESCRIPTION:
URL:https://mountolive.online/event/sunday-service/2027-04-04/
LOCATION:Mount Olive Baptist Church\, 5415 Mount Olive Road\, Polk City\, FL\, United States
CATEGORIES:Events
ATTACH;FMTTYPE=image/png:https://mountolive.online/wp-content/uploads/2024/09/sun-web-1.png
END:VEVENT
BEGIN:VEVENT
DTSTART;TZID=UTC:20270407T190000
DTEND;TZID=UTC:20270407T190000
DTSTAMP:20260425T114618
CREATED:20240926T152254Z
LAST-MODIFIED:20241002T152811Z
UID:10000660-1807124400-1807124400@mountolive.online
SUMMARY:Wednesday Service
DESCRIPTION:
URL:https://mountolive.online/event/wednesday-service/2027-04-07/
LOCATION:Mount Olive Baptist Church\, 5415 Mount Olive Road\, Polk City\, FL\, United States
CATEGORIES:Events
ATTACH;FMTTYPE=image/png:https://mountolive.online/wp-content/uploads/2024/09/wed-web-pic-.png
END:VEVENT
BEGIN:VEVENT
DTSTART;TZID=UTC:20270409T090000
DTEND;TZID=UTC:20270409T090000
DTSTAMP:20260425T114618
CREATED:20240926T142031Z
LAST-MODIFIED:20241008T144059Z
UID:10000400-1807261200-1807261200@mountolive.online
SUMMARY:Men's Prayer Meeting
DESCRIPTION:
URL:https://mountolive.online/event/mens-prayer-meeting/2027-04-09/
LOCATION:Mount Olive Baptist Church\, 5415 Mount Olive Road\, Polk City\, FL\, United States
CATEGORIES:Events
ATTACH;FMTTYPE=image/png:https://mountolive.online/wp-content/uploads/2024/09/mens-prayer-meet.png
END:VEVENT
BEGIN:VEVENT
DTSTART;TZID=UTC:20270410T100000
DTEND;TZID=UTC:20270410T100000
DTSTAMP:20260425T114618
CREATED:20241008T145737Z
LAST-MODIFIED:20241008T150157Z
UID:10001456-1807351200-1807351200@mountolive.online
SUMMARY:Women's Bible Study
DESCRIPTION:
URL:https://mountolive.online/event/womens-bible-study/2027-04-10/
LOCATION:Mount Olive Baptist Church\, 5415 Mount Olive Road\, Polk City\, FL\, United States
CATEGORIES:Events
ATTACH;FMTTYPE=image/png:https://mountolive.online/wp-content/uploads/2024/09/womens-bible-study-pic.png
END:VEVENT
END:VCALENDAR