BEGIN:VCALENDAR
VERSION:2.0
PRODID:-//Mount Olive Baptist Church - ECPv6.15.20//NONSGML v1.0//EN
CALSCALE:GREGORIAN
METHOD:PUBLISH
X-WR-CALNAME:Mount Olive Baptist Church
X-ORIGINAL-URL:https://mountolive.online
X-WR-CALDESC:Events for Mount Olive Baptist Church
REFRESH-INTERVAL;VALUE=DURATION:PT1H
X-Robots-Tag:noindex
X-PUBLISHED-TTL:PT1H
BEGIN:VTIMEZONE
TZID:UTC
BEGIN:STANDARD
TZOFFSETFROM:+0000
TZOFFSETTO:+0000
TZNAME:UTC
DTSTART:20250101T000000
END:STANDARD
END:VTIMEZONE
BEGIN:VEVENT
DTSTART;TZID=UTC:20260826T190000
DTEND;TZID=UTC:20260826T190000
DTSTAMP:20260424T193330
CREATED:20240926T152254Z
LAST-MODIFIED:20241002T152811Z
UID:10000628-1787770800-1787770800@mountolive.online
SUMMARY:Wednesday Service
DESCRIPTION:
URL:https://mountolive.online/event/wednesday-service/2026-08-26/
LOCATION:Mount Olive Baptist Church\, 5415 Mount Olive Road\, Polk City\, FL\, United States
CATEGORIES:Events
ATTACH;FMTTYPE=image/png:https://mountolive.online/wp-content/uploads/2024/09/wed-web-pic-.png
END:VEVENT
BEGIN:VEVENT
DTSTART;TZID=UTC:20260828T090000
DTEND;TZID=UTC:20260828T090000
DTSTAMP:20260424T193330
CREATED:20240926T142031Z
LAST-MODIFIED:20241008T144059Z
UID:10000368-1787907600-1787907600@mountolive.online
SUMMARY:Men's Prayer Meeting
DESCRIPTION:
URL:https://mountolive.online/event/mens-prayer-meeting/2026-08-28/
LOCATION:Mount Olive Baptist Church\, 5415 Mount Olive Road\, Polk City\, FL\, United States
CATEGORIES:Events
ATTACH;FMTTYPE=image/png:https://mountolive.online/wp-content/uploads/2024/09/mens-prayer-meet.png
END:VEVENT
BEGIN:VEVENT
DTSTART;TZID=UTC:20260829T100000
DTEND;TZID=UTC:20260829T100000
DTSTAMP:20260424T193330
CREATED:20241008T145737Z
LAST-MODIFIED:20241008T150157Z
UID:10001424-1787997600-1787997600@mountolive.online
SUMMARY:Women's Bible Study
DESCRIPTION:
URL:https://mountolive.online/event/womens-bible-study/2026-08-29/
LOCATION:Mount Olive Baptist Church\, 5415 Mount Olive Road\, Polk City\, FL\, United States
CATEGORIES:Events
ATTACH;FMTTYPE=image/png:https://mountolive.online/wp-content/uploads/2024/09/womens-bible-study-pic.png
END:VEVENT
BEGIN:VEVENT
DTSTART;TZID=UTC:20260830T110000
DTEND;TZID=UTC:20260830T110000
DTSTAMP:20260424T193330
CREATED:20240926T155944Z
LAST-MODIFIED:20240926T155944Z
UID:10000890-1788087600-1788087600@mountolive.online
SUMMARY:Sunday Service
DESCRIPTION:
URL:https://mountolive.online/event/sunday-service/2026-08-30/
LOCATION:Mount Olive Baptist Church\, 5415 Mount Olive Road\, Polk City\, FL\, United States
CATEGORIES:Events
ATTACH;FMTTYPE=image/png:https://mountolive.online/wp-content/uploads/2024/09/sun-web-1.png
END:VEVENT
BEGIN:VEVENT
DTSTART;TZID=UTC:20260902T190000
DTEND;TZID=UTC:20260902T190000
DTSTAMP:20260424T193330
CREATED:20240926T152254Z
LAST-MODIFIED:20241002T152811Z
UID:10000629-1788375600-1788375600@mountolive.online
SUMMARY:Wednesday Service
DESCRIPTION:
URL:https://mountolive.online/event/wednesday-service/2026-09-02/
LOCATION:Mount Olive Baptist Church\, 5415 Mount Olive Road\, Polk City\, FL\, United States
CATEGORIES:Events
ATTACH;FMTTYPE=image/png:https://mountolive.online/wp-content/uploads/2024/09/wed-web-pic-.png
END:VEVENT
BEGIN:VEVENT
DTSTART;TZID=UTC:20260904T090000
DTEND;TZID=UTC:20260904T090000
DTSTAMP:20260424T193330
CREATED:20240926T142031Z
LAST-MODIFIED:20241008T144059Z
UID:10000369-1788512400-1788512400@mountolive.online
SUMMARY:Men's Prayer Meeting
DESCRIPTION:
URL:https://mountolive.online/event/mens-prayer-meeting/2026-09-04/
LOCATION:Mount Olive Baptist Church\, 5415 Mount Olive Road\, Polk City\, FL\, United States
CATEGORIES:Events
ATTACH;FMTTYPE=image/png:https://mountolive.online/wp-content/uploads/2024/09/mens-prayer-meet.png
END:VEVENT
BEGIN:VEVENT
DTSTART;TZID=UTC:20260905T100000
DTEND;TZID=UTC:20260905T100000
DTSTAMP:20260424T193330
CREATED:20241008T145737Z
LAST-MODIFIED:20241008T150157Z
UID:10001425-1788602400-1788602400@mountolive.online
SUMMARY:Women's Bible Study
DESCRIPTION:
URL:https://mountolive.online/event/womens-bible-study/2026-09-05/
LOCATION:Mount Olive Baptist Church\, 5415 Mount Olive Road\, Polk City\, FL\, United States
CATEGORIES:Events
ATTACH;FMTTYPE=image/png:https://mountolive.online/wp-content/uploads/2024/09/womens-bible-study-pic.png
END:VEVENT
BEGIN:VEVENT
DTSTART;TZID=UTC:20260906T110000
DTEND;TZID=UTC:20260906T110000
DTSTAMP:20260424T193330
CREATED:20240926T155944Z
LAST-MODIFIED:20240926T155944Z
UID:10000891-1788692400-1788692400@mountolive.online
SUMMARY:Sunday Service
DESCRIPTION:
URL:https://mountolive.online/event/sunday-service/2026-09-06/
LOCATION:Mount Olive Baptist Church\, 5415 Mount Olive Road\, Polk City\, FL\, United States
CATEGORIES:Events
ATTACH;FMTTYPE=image/png:https://mountolive.online/wp-content/uploads/2024/09/sun-web-1.png
END:VEVENT
BEGIN:VEVENT
DTSTART;TZID=UTC:20260909T190000
DTEND;TZID=UTC:20260909T190000
DTSTAMP:20260424T193330
CREATED:20240926T152254Z
LAST-MODIFIED:20241002T152811Z
UID:10000630-1788980400-1788980400@mountolive.online
SUMMARY:Wednesday Service
DESCRIPTION:
URL:https://mountolive.online/event/wednesday-service/2026-09-09/
LOCATION:Mount Olive Baptist Church\, 5415 Mount Olive Road\, Polk City\, FL\, United States
CATEGORIES:Events
ATTACH;FMTTYPE=image/png:https://mountolive.online/wp-content/uploads/2024/09/wed-web-pic-.png
END:VEVENT
BEGIN:VEVENT
DTSTART;TZID=UTC:20260911T090000
DTEND;TZID=UTC:20260911T090000
DTSTAMP:20260424T193330
CREATED:20240926T142031Z
LAST-MODIFIED:20241008T144059Z
UID:10000370-1789117200-1789117200@mountolive.online
SUMMARY:Men's Prayer Meeting
DESCRIPTION:
URL:https://mountolive.online/event/mens-prayer-meeting/2026-09-11/
LOCATION:Mount Olive Baptist Church\, 5415 Mount Olive Road\, Polk City\, FL\, United States
CATEGORIES:Events
ATTACH;FMTTYPE=image/png:https://mountolive.online/wp-content/uploads/2024/09/mens-prayer-meet.png
END:VEVENT
BEGIN:VEVENT
DTSTART;TZID=UTC:20260912T100000
DTEND;TZID=UTC:20260912T100000
DTSTAMP:20260424T193330
CREATED:20241008T145737Z
LAST-MODIFIED:20241008T150157Z
UID:10001426-1789207200-1789207200@mountolive.online
SUMMARY:Women's Bible Study
DESCRIPTION:
URL:https://mountolive.online/event/womens-bible-study/2026-09-12/
LOCATION:Mount Olive Baptist Church\, 5415 Mount Olive Road\, Polk City\, FL\, United States
CATEGORIES:Events
ATTACH;FMTTYPE=image/png:https://mountolive.online/wp-content/uploads/2024/09/womens-bible-study-pic.png
END:VEVENT
BEGIN:VEVENT
DTSTART;TZID=UTC:20260913T110000
DTEND;TZID=UTC:20260913T110000
DTSTAMP:20260424T193330
CREATED:20240926T155944Z
LAST-MODIFIED:20240926T155944Z
UID:10000892-1789297200-1789297200@mountolive.online
SUMMARY:Sunday Service
DESCRIPTION:
URL:https://mountolive.online/event/sunday-service/2026-09-13/
LOCATION:Mount Olive Baptist Church\, 5415 Mount Olive Road\, Polk City\, FL\, United States
CATEGORIES:Events
ATTACH;FMTTYPE=image/png:https://mountolive.online/wp-content/uploads/2024/09/sun-web-1.png
END:VEVENT
BEGIN:VEVENT
DTSTART;TZID=UTC:20260916T190000
DTEND;TZID=UTC:20260916T190000
DTSTAMP:20260424T193330
CREATED:20240926T152254Z
LAST-MODIFIED:20241002T152811Z
UID:10000631-1789585200-1789585200@mountolive.online
SUMMARY:Wednesday Service
DESCRIPTION:
URL:https://mountolive.online/event/wednesday-service/2026-09-16/
LOCATION:Mount Olive Baptist Church\, 5415 Mount Olive Road\, Polk City\, FL\, United States
CATEGORIES:Events
ATTACH;FMTTYPE=image/png:https://mountolive.online/wp-content/uploads/2024/09/wed-web-pic-.png
END:VEVENT
BEGIN:VEVENT
DTSTART;TZID=UTC:20260918T090000
DTEND;TZID=UTC:20260918T090000
DTSTAMP:20260424T193330
CREATED:20240926T142031Z
LAST-MODIFIED:20241008T144059Z
UID:10000371-1789722000-1789722000@mountolive.online
SUMMARY:Men's Prayer Meeting
DESCRIPTION:
URL:https://mountolive.online/event/mens-prayer-meeting/2026-09-18/
LOCATION:Mount Olive Baptist Church\, 5415 Mount Olive Road\, Polk City\, FL\, United States
CATEGORIES:Events
ATTACH;FMTTYPE=image/png:https://mountolive.online/wp-content/uploads/2024/09/mens-prayer-meet.png
END:VEVENT
BEGIN:VEVENT
DTSTART;TZID=UTC:20260919T100000
DTEND;TZID=UTC:20260919T100000
DTSTAMP:20260424T193330
CREATED:20241008T145737Z
LAST-MODIFIED:20241008T150157Z
UID:10001427-1789812000-1789812000@mountolive.online
SUMMARY:Women's Bible Study
DESCRIPTION:
URL:https://mountolive.online/event/womens-bible-study/2026-09-19/
LOCATION:Mount Olive Baptist Church\, 5415 Mount Olive Road\, Polk City\, FL\, United States
CATEGORIES:Events
ATTACH;FMTTYPE=image/png:https://mountolive.online/wp-content/uploads/2024/09/womens-bible-study-pic.png
END:VEVENT
BEGIN:VEVENT
DTSTART;TZID=UTC:20260920T110000
DTEND;TZID=UTC:20260920T110000
DTSTAMP:20260424T193330
CREATED:20240926T155944Z
LAST-MODIFIED:20240926T155944Z
UID:10000893-1789902000-1789902000@mountolive.online
SUMMARY:Sunday Service
DESCRIPTION:
URL:https://mountolive.online/event/sunday-service/2026-09-20/
LOCATION:Mount Olive Baptist Church\, 5415 Mount Olive Road\, Polk City\, FL\, United States
CATEGORIES:Events
ATTACH;FMTTYPE=image/png:https://mountolive.online/wp-content/uploads/2024/09/sun-web-1.png
END:VEVENT
BEGIN:VEVENT
DTSTART;TZID=UTC:20260923T190000
DTEND;TZID=UTC:20260923T190000
DTSTAMP:20260424T193330
CREATED:20240926T152254Z
LAST-MODIFIED:20241002T152811Z
UID:10000632-1790190000-1790190000@mountolive.online
SUMMARY:Wednesday Service
DESCRIPTION:
URL:https://mountolive.online/event/wednesday-service/2026-09-23/
LOCATION:Mount Olive Baptist Church\, 5415 Mount Olive Road\, Polk City\, FL\, United States
CATEGORIES:Events
ATTACH;FMTTYPE=image/png:https://mountolive.online/wp-content/uploads/2024/09/wed-web-pic-.png
END:VEVENT
BEGIN:VEVENT
DTSTART;TZID=UTC:20260925T090000
DTEND;TZID=UTC:20260925T090000
DTSTAMP:20260424T193330
CREATED:20240926T142031Z
LAST-MODIFIED:20241008T144059Z
UID:10000372-1790326800-1790326800@mountolive.online
SUMMARY:Men's Prayer Meeting
DESCRIPTION:
URL:https://mountolive.online/event/mens-prayer-meeting/2026-09-25/
LOCATION:Mount Olive Baptist Church\, 5415 Mount Olive Road\, Polk City\, FL\, United States
CATEGORIES:Events
ATTACH;FMTTYPE=image/png:https://mountolive.online/wp-content/uploads/2024/09/mens-prayer-meet.png
END:VEVENT
BEGIN:VEVENT
DTSTART;TZID=UTC:20260926T100000
DTEND;TZID=UTC:20260926T100000
DTSTAMP:20260424T193330
CREATED:20241008T145737Z
LAST-MODIFIED:20241008T150157Z
UID:10001428-1790416800-1790416800@mountolive.online
SUMMARY:Women's Bible Study
DESCRIPTION:
URL:https://mountolive.online/event/womens-bible-study/2026-09-26/
LOCATION:Mount Olive Baptist Church\, 5415 Mount Olive Road\, Polk City\, FL\, United States
CATEGORIES:Events
ATTACH;FMTTYPE=image/png:https://mountolive.online/wp-content/uploads/2024/09/womens-bible-study-pic.png
END:VEVENT
BEGIN:VEVENT
DTSTART;TZID=UTC:20260927T110000
DTEND;TZID=UTC:20260927T110000
DTSTAMP:20260424T193330
CREATED:20240926T155944Z
LAST-MODIFIED:20240926T155944Z
UID:10000894-1790506800-1790506800@mountolive.online
SUMMARY:Sunday Service
DESCRIPTION:
URL:https://mountolive.online/event/sunday-service/2026-09-27/
LOCATION:Mount Olive Baptist Church\, 5415 Mount Olive Road\, Polk City\, FL\, United States
CATEGORIES:Events
ATTACH;FMTTYPE=image/png:https://mountolive.online/wp-content/uploads/2024/09/sun-web-1.png
END:VEVENT
BEGIN:VEVENT
DTSTART;TZID=UTC:20260930T190000
DTEND;TZID=UTC:20260930T190000
DTSTAMP:20260424T193330
CREATED:20240926T152254Z
LAST-MODIFIED:20241002T152811Z
UID:10000633-1790794800-1790794800@mountolive.online
SUMMARY:Wednesday Service
DESCRIPTION:
URL:https://mountolive.online/event/wednesday-service/2026-09-30/
LOCATION:Mount Olive Baptist Church\, 5415 Mount Olive Road\, Polk City\, FL\, United States
CATEGORIES:Events
ATTACH;FMTTYPE=image/png:https://mountolive.online/wp-content/uploads/2024/09/wed-web-pic-.png
END:VEVENT
BEGIN:VEVENT
DTSTART;TZID=UTC:20261002T090000
DTEND;TZID=UTC:20261002T090000
DTSTAMP:20260424T193330
CREATED:20240926T142031Z
LAST-MODIFIED:20241008T144059Z
UID:10000373-1790931600-1790931600@mountolive.online
SUMMARY:Men's Prayer Meeting
DESCRIPTION:
URL:https://mountolive.online/event/mens-prayer-meeting/2026-10-02/
LOCATION:Mount Olive Baptist Church\, 5415 Mount Olive Road\, Polk City\, FL\, United States
CATEGORIES:Events
ATTACH;FMTTYPE=image/png:https://mountolive.online/wp-content/uploads/2024/09/mens-prayer-meet.png
END:VEVENT
BEGIN:VEVENT
DTSTART;TZID=UTC:20261003T100000
DTEND;TZID=UTC:20261003T100000
DTSTAMP:20260424T193330
CREATED:20241008T145737Z
LAST-MODIFIED:20241008T150157Z
UID:10001429-1791021600-1791021600@mountolive.online
SUMMARY:Women's Bible Study
DESCRIPTION:
URL:https://mountolive.online/event/womens-bible-study/2026-10-03/
LOCATION:Mount Olive Baptist Church\, 5415 Mount Olive Road\, Polk City\, FL\, United States
CATEGORIES:Events
ATTACH;FMTTYPE=image/png:https://mountolive.online/wp-content/uploads/2024/09/womens-bible-study-pic.png
END:VEVENT
BEGIN:VEVENT
DTSTART;TZID=UTC:20261004T110000
DTEND;TZID=UTC:20261004T110000
DTSTAMP:20260424T193330
CREATED:20240926T155944Z
LAST-MODIFIED:20240926T155944Z
UID:10000895-1791111600-1791111600@mountolive.online
SUMMARY:Sunday Service
DESCRIPTION:
URL:https://mountolive.online/event/sunday-service/2026-10-04/
LOCATION:Mount Olive Baptist Church\, 5415 Mount Olive Road\, Polk City\, FL\, United States
CATEGORIES:Events
ATTACH;FMTTYPE=image/png:https://mountolive.online/wp-content/uploads/2024/09/sun-web-1.png
END:VEVENT
BEGIN:VEVENT
DTSTART;TZID=UTC:20261007T190000
DTEND;TZID=UTC:20261007T190000
DTSTAMP:20260424T193330
CREATED:20240926T152254Z
LAST-MODIFIED:20241002T152811Z
UID:10000634-1791399600-1791399600@mountolive.online
SUMMARY:Wednesday Service
DESCRIPTION:
URL:https://mountolive.online/event/wednesday-service/2026-10-07/
LOCATION:Mount Olive Baptist Church\, 5415 Mount Olive Road\, Polk City\, FL\, United States
CATEGORIES:Events
ATTACH;FMTTYPE=image/png:https://mountolive.online/wp-content/uploads/2024/09/wed-web-pic-.png
END:VEVENT
BEGIN:VEVENT
DTSTART;TZID=UTC:20261009T090000
DTEND;TZID=UTC:20261009T090000
DTSTAMP:20260424T193330
CREATED:20240926T142031Z
LAST-MODIFIED:20241008T144059Z
UID:10000374-1791536400-1791536400@mountolive.online
SUMMARY:Men's Prayer Meeting
DESCRIPTION:
URL:https://mountolive.online/event/mens-prayer-meeting/2026-10-09/
LOCATION:Mount Olive Baptist Church\, 5415 Mount Olive Road\, Polk City\, FL\, United States
CATEGORIES:Events
ATTACH;FMTTYPE=image/png:https://mountolive.online/wp-content/uploads/2024/09/mens-prayer-meet.png
END:VEVENT
BEGIN:VEVENT
DTSTART;TZID=UTC:20261010T100000
DTEND;TZID=UTC:20261010T100000
DTSTAMP:20260424T193330
CREATED:20241008T145737Z
LAST-MODIFIED:20241008T150157Z
UID:10001430-1791626400-1791626400@mountolive.online
SUMMARY:Women's Bible Study
DESCRIPTION:
URL:https://mountolive.online/event/womens-bible-study/2026-10-10/
LOCATION:Mount Olive Baptist Church\, 5415 Mount Olive Road\, Polk City\, FL\, United States
CATEGORIES:Events
ATTACH;FMTTYPE=image/png:https://mountolive.online/wp-content/uploads/2024/09/womens-bible-study-pic.png
END:VEVENT
BEGIN:VEVENT
DTSTART;TZID=UTC:20261011T110000
DTEND;TZID=UTC:20261011T110000
DTSTAMP:20260424T193330
CREATED:20240926T155944Z
LAST-MODIFIED:20240926T155944Z
UID:10000896-1791716400-1791716400@mountolive.online
SUMMARY:Sunday Service
DESCRIPTION:
URL:https://mountolive.online/event/sunday-service/2026-10-11/
LOCATION:Mount Olive Baptist Church\, 5415 Mount Olive Road\, Polk City\, FL\, United States
CATEGORIES:Events
ATTACH;FMTTYPE=image/png:https://mountolive.online/wp-content/uploads/2024/09/sun-web-1.png
END:VEVENT
BEGIN:VEVENT
DTSTART;TZID=UTC:20261014T190000
DTEND;TZID=UTC:20261014T190000
DTSTAMP:20260424T193330
CREATED:20240926T152254Z
LAST-MODIFIED:20241002T152811Z
UID:10000635-1792004400-1792004400@mountolive.online
SUMMARY:Wednesday Service
DESCRIPTION:
URL:https://mountolive.online/event/wednesday-service/2026-10-14/
LOCATION:Mount Olive Baptist Church\, 5415 Mount Olive Road\, Polk City\, FL\, United States
CATEGORIES:Events
ATTACH;FMTTYPE=image/png:https://mountolive.online/wp-content/uploads/2024/09/wed-web-pic-.png
END:VEVENT
BEGIN:VEVENT
DTSTART;TZID=UTC:20261016T090000
DTEND;TZID=UTC:20261016T090000
DTSTAMP:20260424T193330
CREATED:20240926T142031Z
LAST-MODIFIED:20241008T144059Z
UID:10000375-1792141200-1792141200@mountolive.online
SUMMARY:Men's Prayer Meeting
DESCRIPTION:
URL:https://mountolive.online/event/mens-prayer-meeting/2026-10-16/
LOCATION:Mount Olive Baptist Church\, 5415 Mount Olive Road\, Polk City\, FL\, United States
CATEGORIES:Events
ATTACH;FMTTYPE=image/png:https://mountolive.online/wp-content/uploads/2024/09/mens-prayer-meet.png
END:VEVENT
END:VCALENDAR